BEGIN:VCALENDAR
VERSION:2.0
PRODID:-//ChamberMaster//Event Calendar 2.0//EN
METHOD:PUBLISH
X-PUBLISHED-TTL:P3D
REFRESH-INTERVAL:P3D
CALSCALE:GREGORIAN
BEGIN:VEVENT
DTSTART:20250621T190000Z
DTEND:20250621T203000Z
X-MICROSOFT-CDO-ALLDAYEVENT:FALSE
SUMMARY:Fox Chamber Singers Present "Unexpected Beauty"
DESCRIPTION:Collaborating with Fox Chamber Singers bass\, Daniel Hardy's gospel choir The Assembly and Fox Chamber Singers will present varied literature that brings traditional classical choral music and traditional gospel. Each choir will perform music and then join forces to sing together. Lisa Fredenburgh\, Conductor. Andy Maya\, Pianist. Daniel Hardy\, The Assembly. Director. \n\n \n\nSelected works to be performed:\n\n \n\nUbi Caritas.     Paul Mealor\n\nAgnus Dei         Javier Busto\n\nI will Sing of Thy Might              Paul Nesheim\n\nO Sacrum Convivium               Olivier Messiaen\n\nGloria. (From Masque of Angels)  Dominick Argento\n\nThe Cloud Capped Towers    Vaughan Williams\n\nOver Hill\, Over Dale   Vaughan Williams\n\nThe Cloud         Eriks Esenvalds\n\nHigh Flight        David Brunner\n\nIt's You I like     Fred Rogers arr. Von Kampen\n\nLet all the World in Every Corner Sing.   Vaughan Williams\n\n\n\nFor additional information\, see Fox Chamber Singers website.\n\nFox Chamber Singers is a member of the Fox Valley Music Consortium.
X-ALT-DESC;FMTTYPE=text/html:<span style="font-family:verdana"><strong>Collaborating with Fox Chamber Singers bass\, Daniel Hardy&#39\;s gospel choir The Assembly and Fox Chamber Singers </strong>will present varied literature that brings traditional classical choral music and traditional gospel. Each choir will perform music and then join forces to sing together. Lisa Fredenburgh\, Conductor. Andy Maya\, Pianist. Daniel Hardy\, The Assembly. Director.&nbsp\;</span><br />\n&nbsp\;<br />\nSelected works to be performed:<br />\n&nbsp\;<br />\nUbi Caritas. &nbsp\; &nbsp\; Paul Mealor<br />\nAgnus Dei&nbsp\;&nbsp\;&nbsp\;&nbsp\;&nbsp\;&nbsp\;&nbsp\;&nbsp\; Javier Busto<br />\nI will Sing of Thy Might&nbsp\;&nbsp\;&nbsp\;&nbsp\;&nbsp\;&nbsp\;&nbsp\;&nbsp\;&nbsp\;&nbsp\;&nbsp\;&nbsp\;&nbsp\; Paul Nesheim<br />\nO Sacrum Convivium&nbsp\;&nbsp\;&nbsp\;&nbsp\;&nbsp\;&nbsp\;&nbsp\;&nbsp\;&nbsp\;&nbsp\;&nbsp\;&nbsp\;&nbsp\;&nbsp\; Olivier Messiaen<br />\nGloria. (From Masque of Angels) &nbsp\;Dominick Argento<br />\nThe Cloud Capped Towers&nbsp\;&nbsp\;&nbsp\; Vaughan Williams<br />\nOver Hill\, Over Dale&nbsp\;&nbsp\; Vaughan Williams<br />\nThe Cloud&nbsp\;&nbsp\;&nbsp\;&nbsp\;&nbsp\;&nbsp\;&nbsp\;&nbsp\; Eriks Esenvalds<br />\nHigh Flight&nbsp\;&nbsp\;&nbsp\;&nbsp\;&nbsp\;&nbsp\;&nbsp\; David Brunner<br />\nIt&#39\;s You I like&nbsp\;&nbsp\;&nbsp\;&nbsp\; Fred Rogers arr. Von Kampen<br />\nLet all the World in Every Corner Sing. &nbsp\; Vaughan Williams<br />\n<br />\nFor additional information\, see <strong><a href="https://www.foxchambersingers.org/" target="_blank">Fox Chamber Singers</a> </strong>website.<br />\nFox Chamber Singers is a member of the Fox Valley Music Consortium.&nbsp\;
LOCATION:Marmion Abbey Church 850 Butterfield Rd\, Aurora\, IL 60502
UID:e.1902.29526
SEQUENCE:3
DTSTAMP:20260422T082648Z
URL:http://business.bataviachamber.org/events/details/fox-chamber-singers-present-unexpected-beauty-29526
END:VEVENT

END:VCALENDAR
