BEGIN:VCALENDAR
VERSION:2.0
PRODID:-//ChamberMaster//Event Calendar 2.0//EN
METHOD:PUBLISH
X-PUBLISHED-TTL:P3D
REFRESH-INTERVAL:P3D
CALSCALE:GREGORIAN
BEGIN:VEVENT
DTSTART:20250216T210000Z
DTEND:20250216T221500Z
X-MICROSOFT-CDO-ALLDAYEVENT:FALSE
SUMMARY:Fox Chamber Singers present "All We Need"
DESCRIPTION:Fox Chamber Singers concert centers on our need of Love. All concert works will explore this greatest\, most inspiring of human emotions and thoughts. Celebrate love with music modern and old\, popular and classical!\n\n\n\nFox Chamber Singers is a proud member of the Fox Valley Music Consortium.
X-ALT-DESC;FMTTYPE=text/html:<p><span style="font-size:14px"><span style="font-family:verdana"><strong>Fox Chamber Singers</strong> concert centers on our need of Love. All concert works will explore this greatest\, most inspiring of human emotions and thoughts. Celebrate love with music modern and old\, popular and classical!<br />\n<br />\n<em>Fox Chamber Singers is a proud member of the Fox Valley Music Consortium.</em></span></span></p>\n
LOCATION:Our Savior Lutheran Church 420 W. Downer Place Aurora\, IL 60506
UID:e.1902.29337
SEQUENCE:3
DTSTAMP:20260422T150249Z
URL:http://business.bataviachamber.org/events/details/fox-chamber-singers-present-all-we-need-29337
END:VEVENT

END:VCALENDAR
