BEGIN:VCALENDAR
VERSION:2.0
PRODID:-//ChamberMaster//Event Calendar 2.0//EN
METHOD:PUBLISH
X-PUBLISHED-TTL:P3D
REFRESH-INTERVAL:P3D
CALSCALE:GREGORIAN
BEGIN:VEVENT
DTSTART:20100311T173000Z
DTEND:20100311T190000Z
X-MICROSOFT-CDO-ALLDAYEVENT:FALSE
SUMMARY:''Finding the River of Character'' with Dr. Ray Benedetto
DESCRIPTION:The collapse of financial institutions\, the demise of several major businesses\, and recent scandals in government\, business\, and the sports world have some common themes\, among which is the demonstration of poor character. Character applies to organizations as much as it does to individuals. The problem is many company leaders ignore this critical element of company success because they don’t know how to find the River of Character within their own walls. A River of Character exists in every organization\, and the quality of that River determines the organizational energy employees produce and the level of performance the organization achieves. Dr. Benedetto’s research revealed seven attributes of high-performing\, character-based organizations that are measurable\, achievable\, and necessary for sustainable performance. He will share these attributes with us during the March 2010 Chamber luncheon\, including the model for character-based organizational excellence that evolved from his research and serves as the core of the book he is currently writing. He will also share the essentials for evaluating character in your own organization.
X-ALT-DESC;FMTTYPE=text/html:<FONT size=4><FONT face=Arial><FONT face="Times New Roman" color=#000000 size=3><FONT color=#0000ff size=4><P class=MsoNormal style="MARGIN: 0in 0in 0pt" align=left><SPAN style="FONT-SIZE: 10pt\; FONT-FAMILY: Arial"><FONT color=#0000ff><FONT face="Times New Roman" size=4>The collapse of financial institutions\, the demise of several major businesses\, and recent scandals in government\, business\, and the sports world have some common themes\, among which is the demonstration of poor character. Character applies to organizations as much as it does to individuals. The problem is many company leaders ignore this critical element of company success because they don’t know how to find the River of Character within their own walls.</FONT></FONT></SPAN></P><P class=MsoNormal style="MARGIN: 0in 0in 0pt" align=left><SPAN style="FONT-SIZE: 10pt\; FONT-FAMILY: Arial"><FONT color=#0000ff><FONT face="Times New Roman" size=4></FONT></FONT></SPAN>&nbsp\;</P><P class=MsoNormal style="MARGIN: 0in 0in 0pt" align=left><SPAN style="FONT-SIZE: 10pt\; FONT-FAMILY: Arial"><FONT color=#0000ff><FONT face="Times New Roman" size=4>A River of Character exists in every organization\, and the quality of that River determines the organizational energy employees produce and the level of performance the organization achieves. Dr. Benedetto’s research revealed seven attributes of high-performing\, character-based organizations that are measurable\, achievable\, and necessary for sustainable performance. He will share these attributes with us during the March 2010 Chamber luncheon\, including the model for character-based organizational excellence that evolved from his research and serves as the core of the book he is currently writing. He will also share the essentials for evaluating character in your own organization. </FONT></FONT></SPAN></P><P class=MsoNormal style="MARGIN: 0in 0in 0pt" align=left><SPAN style="FONT-SIZE: 10pt\; FONT-FAMILY: Arial"><FONT color=#0000ff><FONT face="Times New Roman" size=4></FONT></FONT></SPAN>&nbsp\;</P><P class=MsoNormal style="MARGIN: 0in 0in 0pt" align=left></FONT></P></FONT></FONT></FONT>
LOCATION:Fox's on the River
UID:e.1902.1536
SEQUENCE:3
DTSTAMP:20260421T041255Z
URL:http://business.bataviachamber.org/events/details/finding-the-river-of-character-with-dr-ray-benedetto-03-11-2010-1536
END:VEVENT

END:VCALENDAR
