BEGIN:VCALENDAR
VERSION:2.0
PRODID:-//ChamberMaster//Event Calendar 2.0//EN
METHOD:PUBLISH
X-PUBLISHED-TTL:P3D
REFRESH-INTERVAL:P3D
CALSCALE:GREGORIAN
BEGIN:VEVENT
DTSTART:20250530T220000Z
DTEND:20250531T010000Z
X-MICROSOFT-CDO-ALLDAYEVENT:FALSE
SUMMARY:End of School Year Celebration with CASA Kane County!
DESCRIPTION:Kick off summer with CASA Kane County at Urban Air in St. Charles! Urban Air will donate 50% of sales back to CASA!
X-ALT-DESC;FMTTYPE=text/html:<p><span style="font-family:arial\,sans-serif\; font-size:10pt">Kick off summer with CASA Kane County at Urban Air in St. Charles! </span><em>Urban Air will donate 50% of sales back to CASA!</em></p>\n\n<div>&nbsp\;</div>\n
LOCATION:Urban Air Adventure Park 2732 E Main Street Saint Charles\, IL 60174
UID:e.1902.29532
SEQUENCE:3
DTSTAMP:20260422T113912Z
URL:http://business.bataviachamber.org/events/details/end-of-school-year-celebration-with-casa-kane-county-29532
END:VEVENT

END:VCALENDAR
