BEGIN:VCALENDAR
VERSION:2.0
PRODID:-//ChamberMaster//Event Calendar 2.0//EN
METHOD:PUBLISH
X-PUBLISHED-TTL:P3D
REFRESH-INTERVAL:P3D
CALSCALE:GREGORIAN
BEGIN:VEVENT
DTSTART:20250217T010000Z
DTEND:20250217T030000Z
X-MICROSOFT-CDO-ALLDAYEVENT:FALSE
SUMMARY:Elle Orlando Stand Up Comedy
DESCRIPTION:Elle is a Chicago native\, but started her comedy career in NYC. She performs regularly at New York Comedy Club\, The Stand\, Standup New York\, BKLYN Comedy club\, and can be seen performing at other clubs and indie shows all over New York city. Elle is a regular on the The Bonfire on Sirius XM with Robert Kelly and Big Jay Oakerson and has toured with comedians such as Rich Vos\, Jared Freid\, Greg Stone\, and Michael Yo. Elle has been featured in Milwaukee Comedy Festival\, SLO Comedy Festival\, and New York Comedy Festival. Elle was recently named a 2023 "Creator to Watch" By New York Comedy Festival. Check out her weekly podcast every Monday called Elle Diablo.
X-ALT-DESC;FMTTYPE=text/html:<span style="color:#000000\;"><span style="font-family: oswald\, sans-serif\; font-size: 16px\;">Elle is a Chicago native\, but started her comedy career in NYC. She performs regularly at New York Comedy Club\, The Stand\, Standup New York\, BKLYN Comedy club\, and can be seen performing at other clubs and indie shows all over New York city. Elle is a regular on the The Bonfire on Sirius XM with Robert Kelly and Big Jay Oakerson and has toured with comedians such as Rich Vos\, Jared Freid\, Greg Stone\, and Michael Yo. Elle has been featured in Milwaukee Comedy Festival\, SLO Comedy Festival\, and New York Comedy Festival. Elle was recently named a 2023 &ldquo\;Creator to Watch&rdquo\; By New York Comedy Festival. Check out her weekly podcast every Monday called Elle Diablo.</span></span>
LOCATION:The Comedy Vault 18 E. Wilson Street Batavia\, IL 60510
UID:e.1902.29315
SEQUENCE:3
DTSTAMP:20260422T150423Z
URL:http://business.bataviachamber.org/events/details/elle-orlando-29315
END:VEVENT

END:VCALENDAR
