BEGIN:VCALENDAR
VERSION:2.0
PRODID:-//ChamberMaster//Event Calendar 2.0//EN
METHOD:PUBLISH
X-PUBLISHED-TTL:P3D
REFRESH-INTERVAL:P3D
CALSCALE:GREGORIAN
BEGIN:VEVENT
DTSTART:20250426T160000Z
DTEND:20250426T200000Z
X-MICROSOFT-CDO-ALLDAYEVENT:FALSE
SUMMARY:Elgin Chamber – Adoption Event
DESCRIPTION:Come meet your new best friend! We'll have dogs & puppies\, available for adoption! Just swing by one of the participating downtown Elgin businesses and say hi!\n\n\n\nWe believe that the human-animal connection has unlimited benefits for both people and animals. What better way to bring an animal into your life than adopting a pet in need of a home? We'll have dogs and puppies at this event. We are excited to help you discover your furry companion and look forward to seeing you at our adoption event.\n\n \n\nGrand Victoria Casino   250 S Grove Ave\n\nElgin Area Chamber of Commerce   31 S. Grove Ave\n\nPro Boxing Fitness & Gym   30 DuPage Ct\n\nRediscover Records   9 S Spring St\n\nVern's Tavern   76 S Grove Ave\n\nAll Adoptions will be finalized at the\n\nElgin Area Chamber of Commerce offices:\n\n31 S Grove Ave\, Elgin\, IL 60120
X-ALT-DESC;FMTTYPE=text/html:<div style="background:50% center / cover no-repeat rgb(248\, 247\, 247)\; border:0px\; padding:0px">\n<div style="background:transparent\; border:0px\; padding:0px">\n<div style="background:50% center / cover no-repeat rgb(248\, 247\, 247)\; border:0px\; padding:0px">\n<div style="background:transparent\; border:0px\; padding:0px">Come meet your new best friend! We&#39\;ll have dogs &amp\; puppies\, available for adoption! Just swing by one of the participating downtown Elgin businesses and say hi!</div>\n</div>\n\n<div style="background:50% center / cover no-repeat rgb(248\, 247\, 247)\; border:0px\; padding:20px 40px">\n<div style="background:transparent\; border:0px\; padding:0px\; text-align:center">We believe that the human-animal connection has unlimited benefits for both people and animals. What better way to bring an animal into your life than adopting a pet in need of a home? We&rsquo\;ll have dogs and puppies at this event. We are excited to help you discover your furry companion and look forward to seeing you at our adoption event.</div>\n\n<div style="background:transparent\; border:0px\; padding:0px">&nbsp\;</div>\n\n<p style="text-align:center">Grand Victoria Casino &ndash\; 250 S Grove Ave<br />\nElgin Area Chamber of Commerce &ndash\; 31 S. Grove Ave<br />\nPro Boxing Fitness &amp\; Gym &ndash\; 30 DuPage Ct<br />\nRediscover Records &ndash\; 9 S Spring St<br />\nVern&rsquo\;s Tavern &ndash\; 76 S Grove Ave</p>\n\n<p style="text-align:center"><em>All Adoptions will be finalized at the</em><br />\n<em>Elgin Area Chamber of Commerce offices:</em><br />\n<em>31 S Grove Ave\, Elgin\, IL 60120</em></p>\n</div>\n</div>\n</div>\n
LOCATION:Downtown Elgin
UID:e.1902.29474
SEQUENCE:3
DTSTAMP:20260422T113643Z
URL:http://business.bataviachamber.org/events/details/elgin-chamber-adoption-event-29474
END:VEVENT

END:VCALENDAR
