BEGIN:VCALENDAR
VERSION:2.0
PRODID:-//ChamberMaster//Event Calendar 2.0//EN
METHOD:PUBLISH
X-PUBLISHED-TTL:P3D
REFRESH-INTERVAL:P3D
CALSCALE:GREGORIAN
BEGIN:VEVENT
DTSTART:20090213T133000Z
DTEND:20090213T153000Z
X-MICROSOFT-CDO-ALLDAYEVENT:FALSE
SUMMARY:Eggs & Issues - The Impact of an Obama Presidency
DESCRIPTION:Are you prepared for the impact of a Democratic Washington D.C.? Are you aware of the "Card Check" bill that will allow Unions to organize without a secret ballot? It will likely pass Congress this Spring! On February 13 we have the privilege of hosting Matt Davis\, Midwest Regional Manager for the U.S. Chamber of Commerce. Matt will give us an overview of the political landscape\, highlight the issues most likely to impact your organization\, and answer your questions about the future of business-related legislation. The Chamber's Legislative Affairs Committee is pleased to bring you this excellent opportunity!
X-ALT-DESC;FMTTYPE=text/html:<DIV style="FONT-FAMILY: Arial" align=left>Are you prepared for the impact of a Democratic Washington D.C.? Are you aware of the "Card Check" bill that will allow Unions to organize without a secret ballot? It will likely pass Congress this Spring!</DIV><DIV style="FONT-FAMILY: Arial" align=left>&nbsp\;</DIV><DIV style="FONT-FAMILY: Arial" align=left>On February 13&nbsp\;we have the privilege of hosting Matt Davis\, Midwest Regional Manager for the U.S. Chamber&nbsp\;of Commerce. Matt will&nbsp\;give us an overview of the political landscape\, highlight the issues most likely to impact your organization\, and answer your questions about the future of business-related legislation.</DIV><DIV style="FONT-FAMILY: Arial" align=left>&nbsp\;</DIV><DIV style="FONT-FAMILY: Arial" align=left>The Chamber's Legislative Affairs Committee is pleased to bring you this excellent opportunity!</DIV>
LOCATION:Eagle Brook Country Club
UID:e.1902.1384
SEQUENCE:3
DTSTAMP:20260422T011731Z
URL:http://business.bataviachamber.org/events/details/eggs-issues-the-impact-of-an-obama-presidency-02-13-2009-1384
END:VEVENT

END:VCALENDAR
