BEGIN:VCALENDAR
VERSION:2.0
PRODID:-//ChamberMaster//Event Calendar 2.0//EN
METHOD:PUBLISH
X-PUBLISHED-TTL:P3D
REFRESH-INTERVAL:P3D
CALSCALE:GREGORIAN
BEGIN:VEVENT
DTSTART:20081017T003000Z
DTEND:20081017T020000Z
X-MICROSOFT-CDO-ALLDAYEVENT:FALSE
SUMMARY:Eggs & Issues - Batavia Park District Referendum
DESCRIPTION:Are you prepared for tax dollars to pay for a new recreation center to be owned and operated by the Park District? What will be the impact on the community?  Will it improve property values and interest in the community...or not? Join us on October 16 to hear representatives of the Park District outline their plans for the Quarry Beach Facility. Be informed when you go to the polls in November.
X-ALT-DESC;FMTTYPE=text/html:<DIV style="FONT-FAMILY: Arial" align=left><FONT face="Times New Roman">Are you prepared for tax dollars to pay for a new recreation center to be owned and operated by the Park District? What will be the impact on the community?&nbsp\; Will it improve property values and interest in the community...or not?</FONT></DIV><DIV style="FONT-FAMILY: Arial" align=left><FONT face="Times New Roman"></FONT>&nbsp\;</DIV><DIV style="FONT-FAMILY: Arial" align=left><FONT face="Times New Roman">Join us on October 16 to hear representatives of the Park District outline their plans for the Quarry Beach Facility. Be informed when you go to the polls in November.</FONT></DIV>
LOCATION:Riverview Banquets
UID:e.1902.1383
SEQUENCE:3
DTSTAMP:20260422T081059Z
URL:http://business.bataviachamber.org/events/details/eggs-issues-batavia-park-district-referendum-10-16-2008-1383
END:VEVENT

END:VCALENDAR
