BEGIN:VCALENDAR
VERSION:2.0
PRODID:-//ChamberMaster//Event Calendar 2.0//EN
METHOD:PUBLISH
X-PUBLISHED-TTL:P3D
REFRESH-INTERVAL:P3D
CALSCALE:GREGORIAN
BEGIN:VEVENT
DTSTART:20250419T160000Z
DTEND:20250419T190000Z
X-MICROSOFT-CDO-ALLDAYEVENT:FALSE
SUMMARY:Easter Egg Hunt Batavia VFW
DESCRIPTION:Annual Easter Egg Hunt at the Batavia VFW! VFW will open at 11am Touch a Truck will start arriving on site around 11am Hunt starts promptly at Noon Enjoy Cookies with the bunny after the hunt! Touch a truck will wrap up around 1pm
X-ALT-DESC;FMTTYPE=text/html:Annual Easter Egg Hunt at the Batavia VFW! VFW will open at 11am Touch a Truck will start arriving on site around 11am Hunt starts promptly at Noon Enjoy Cookies with the bunny after the hunt! Touch a truck will wrap up around 1pm
LOCATION:645 S River Batavia IL
UID:e.1902.29394
SEQUENCE:3
DTSTAMP:20260422T113548Z
URL:http://business.bataviachamber.org/events/details/easter-egg-hunt-batavia-vfw-29394
END:VEVENT

END:VCALENDAR
