BEGIN:VCALENDAR
VERSION:2.0
PRODID:-//ChamberMaster//Event Calendar 2.0//EN
METHOD:PUBLISH
X-PUBLISHED-TTL:P3D
REFRESH-INTERVAL:P3D
CALSCALE:GREGORIAN
BEGIN:VEVENT
DTSTART:20250420T050000Z
DTEND:20250420T050000Z
X-MICROSOFT-CDO-ALLDAYEVENT:FALSE
SUMMARY:Easter Brunch at Prairie Landing Golf Club
DESCRIPTION:You are invited to Prairie Landing Golf Club's Easter Brunch on Sunday\, April 20!  Seating times are at 10:00 AM\, 10:30 AM\, 12:30 PM\, and 1:00 PM\n\nReservations are required by 4/14/2025 by calling 630.208.7641 Monday   Friday 10AM to 6PM. (Please leave a message and we will return your call as soon as possible.)\n\nPrices below include service charge\, tax\, coffee\, and hot tea   all other beverages are available for purchase\n\nAdults: $57\n\nChildren (4-13): $29\n\nChildren Under 4: Free\n\nMember Pricing   Adult: $46.50 and Children (4-13): $26.50 (Member Pricing valid for member plus 3 guests)\n\nEnjoy an elegant brunch menu created by our Executive chef!\n\nOmelet & Carving Stations\n\nBreakfast & Lunch Favorites\n\nFresh Seafood Station\n\nKids Buffet and much more!\n\n$18 Bottomless Mimosas\, Bloody Mary's\, and Aperol Spritz\n\n*Credit card required for reservation. Cancellations or modifications must be made before 4/17 as all payments will be processed prior to the event.
X-ALT-DESC;FMTTYPE=text/html:<p style="margin-left:0px\; margin-right:0px">You are invited to Prairie Landing Golf Club&rsquo\;s Easter Brunch on Sunday\, April 20!&nbsp\; Seating times are at 10:00 AM\, 10:30 AM\, 12:30 PM\, and 1:00 PM</p>\n\n<p style="margin-left:0px\; margin-right:0px">Reservations are required by 4/14/2025 by calling 630.208.7641 Monday &ndash\; Friday 10AM to 6PM.&nbsp\;<em>(Please leave a message and we will return your call as soon as possible.)</em></p>\n\n<p style="margin-left:0px\; margin-right:0px">Prices below include service charge\, tax\, coffee\, and hot tea &ndash\; all other beverages are available for purchase<br />\nAdults: $57<br />\nChildren (4-13): $29<br />\nChildren Under 4: Free</p>\n\n<p style="margin-left:0px\; margin-right:0px">Member Pricing &ndash\; Adult: $46.50 and Children (4-13): $26.50 (<em>Member Pricing valid for member plus 3 guests)</em></p>\n\n<p style="margin-left:0px\; margin-right:0px">Enjoy an elegant brunch menu created by our Executive chef!<br />\nOmelet &amp\; Carving Stations<br />\nBreakfast &amp\; Lunch Favorites<br />\nFresh Seafood Station<br />\nKids Buffet and much more!</p>\n\n<p style="margin-left:0px\; margin-right:0px"><em>$18 Bottomless Mimosas\, Bloody Mary&rsquo\;s\, and Aperol Spritz</em></p>\n\n<p style="margin-left:0px\; margin-right:0px">*Credit card required for reservation. Cancellations or modifications must be made before 4/17 as all payments will be processed prior to the event.</p>\n
LOCATION:Prairie Landing Golf Club\, 2325 Longest Drive\, West Chicago\, IL 60185
UID:e.1902.29352
SEQUENCE:3
DTSTAMP:20260422T114058Z
URL:http://business.bataviachamber.org/events/details/easter-brunch-at-prairie-landing-golf-club-04-20-2025-29352
END:VEVENT

END:VCALENDAR
