BEGIN:VCALENDAR
VERSION:2.0
PRODID:-//ChamberMaster//Event Calendar 2.0//EN
METHOD:PUBLISH
X-PUBLISHED-TTL:P3D
REFRESH-INTERVAL:P3D
CALSCALE:GREGORIAN
BEGIN:VEVENT
DTSTART;VALUE=DATE:20250625
DTEND;VALUE=DATE:20250626
TRANSP:TRANSPARENT
X-MICROSOFT-CDO-ALLDAYEVENT:TRUE
SUMMARY:Dine for a Cause at Culvers
DESCRIPTION:All day on Tuesday\, June 25\, Culver's at 111 S. Randall Road in St. Charles will donate 25% of all sales to Anderson Humane!\n\nWhether you're craving a ButterBurger or a creamy custard cone\, every bite helps animals find a loving home.\n\nStop by\, grab a meal or a treat\, and support a business that gives back.  \n\nNeed to see a menu or want more information on Culvers? Visit their website
X-ALT-DESC;FMTTYPE=text/html:<p>All day on&nbsp\;<strong>Tuesday\, June 25</strong>\, Culver&rsquo\;s at&nbsp\;<strong>111 S. Randall Road in St. Charles</strong>&nbsp\;will donate&nbsp\;<strong>25% of all sales</strong>&nbsp\;to&nbsp\;<strong>Anderson Humane</strong>!</p>\n\n<p>Whether you&rsquo\;re craving a ButterBurger or a creamy custard cone\, every bite helps animals find a loving home.</p>\n\n<p><strong>Stop by\, grab a meal or a treat\, and support a business that gives back.&nbsp\;&nbsp\;</strong></p>\n\n<p>Need to see a menu or want more information on Culvers? Visit their&nbsp\;<a href="https://www.culvers.com/restaurants/st-charles-il-randall-rd" style="box-sizing: border-box\; margin: 0px\; padding: 0px\; border: 0px\; outline: 0px\; text-size-adjust: 100%\; vertical-align: baseline\; background: transparent\; text-decoration-color: rgb(171\, 195\, 128)\; font-weight: 700\; color: rgb(171\, 195\, 128) !important\;" target="_blank">website</a></p>\n
LOCATION:Culver's
UID:e.1902.29601
SEQUENCE:3
DTSTAMP:20260422T082800Z
URL:http://business.bataviachamber.org/events/details/dine-for-a-cause-at-culvers-29601
END:VEVENT

END:VCALENDAR
