BEGIN:VCALENDAR
VERSION:2.0
PRODID:-//ChamberMaster//Event Calendar 2.0//EN
METHOD:PUBLISH
X-PUBLISHED-TTL:P3D
REFRESH-INTERVAL:P3D
CALSCALE:GREGORIAN
BEGIN:VEVENT
DTSTART:20090219T223000Z
DTEND:20090220T000000Z
X-MICROSOFT-CDO-ALLDAYEVENT:FALSE
SUMMARY:Delnor Hospital BAH & Open House.
DESCRIPTION:Join the Batavia Chamber of Commerce for an opportunity to see Delnor Hospital\, including the magnificent new West Wing. We will have appetizers and refreshments\, with tours available throughout the event. If you have not seen the latest addition to our community's health services\, you won't want to miss this event!
X-ALT-DESC;FMTTYPE=text/html:<P align=left><FONT face=Arial color=#0000ff size=4>Join the Batavia Chamber of Commerce for an opportunity to see Delnor Hospital\, including the magnificent new West Wing. We will have appetizers and refreshments\, with tours available throughout the event. </FONT></P><P align=left><FONT face=Arial color=#0000ff size=4>If you have not seen the latest addition to our community's health services\, you won't want to miss this event!</FONT></P><P align=left>&nbsp\;</P>
LOCATION:Delnor Hospital
UID:e.1902.1210
SEQUENCE:3
DTSTAMP:20260422T011944Z
URL:http://business.bataviachamber.org/events/details/delnor-hospital-bah-open-house-02-19-2009-1210
END:VEVENT

END:VCALENDAR
