BEGIN:VCALENDAR
VERSION:2.0
PRODID:-//ChamberMaster//Event Calendar 2.0//EN
METHOD:PUBLISH
X-PUBLISHED-TTL:P3D
REFRESH-INTERVAL:P3D
CALSCALE:GREGORIAN
BEGIN:VEVENT
DTSTART:20250404T003000Z
DTEND:20250406T040000Z
X-MICROSOFT-CDO-ALLDAYEVENT:FALSE
SUMMARY:Dana Gould Stand Up Comedy
DESCRIPTION:Comedy legend Dana Gould is bringing his razor-sharp wit back to The Comedy Vault for three nights and five shows\, April 3-5! A former writer and producer for The Simpsons\, creator of Stan Against Evil\, and stand-up powerhouse\, Dana has appeared on Conan\, The Late Show with David Letterman\, Parks and Rec\, Seinfeld\, and more. Don't miss your chance to see this comedy icon live grab your tickets now before they're gone!
X-ALT-DESC;FMTTYPE=text/html:Comedy legend Dana Gould is bringing his razor-sharp wit back to The Comedy Vault for three nights and five shows\, April 3-5! A former writer and producer for The Simpsons\, creator of Stan Against Evil\, and stand-up powerhouse\, Dana has appeared on Conan\, The Late Show with David Letterman\, Parks and Rec\, Seinfeld\, and more. Don&rsquo\;t miss your chance to see this comedy icon live&mdash\;grab your tickets now before they&rsquo\;re gone!
LOCATION:The Comedy Vault
UID:e.1902.29412
SEQUENCE:3
DTSTAMP:20260422T113822Z
URL:http://business.bataviachamber.org/events/details/dana-gould-stand-up-comedy-29412
END:VEVENT

END:VCALENDAR
