BEGIN:VCALENDAR
VERSION:2.0
PRODID:-//ChamberMaster//Event Calendar 2.0//EN
METHOD:PUBLISH
X-PUBLISHED-TTL:P3D
REFRESH-INTERVAL:P3D
CALSCALE:GREGORIAN
BEGIN:VEVENT
DTSTART:20250627T003000Z
DTEND:20250629T040000Z
X-MICROSOFT-CDO-ALLDAYEVENT:FALSE
SUMMARY:Damien Lemon Stand Up Comedy
DESCRIPTION:Don't miss comedian Damien Lemon at The Comedy Vault for 5 hilarious shows\, June 26-28! Known from TruTV's Comedy Knockout\, MTV2's Guy Code\, HBO's Crashing\, and more\, Damien brings his sharp wit and charm to the stage. Get your tickets now!
X-ALT-DESC;FMTTYPE=text/html:Don&#39\;t miss comedian Damien Lemon at The Comedy Vault for 5 hilarious shows\, June 26-28! Known from TruTV&#39\;s Comedy Knockout\, MTV2&#39\;s Guy Code\, HBO&#39\;s Crashing\, and more\, Damien brings his sharp wit and charm to the stage. Get your tickets now!
LOCATION:The Comedy Vault 18 E. Wilson Street Batavia\, IL 60510
UID:e.1902.26801
SEQUENCE:3
DTSTAMP:20260422T082720Z
URL:http://business.bataviachamber.org/events/details/damien-lemon-stand-up-comedy-26801
END:VEVENT

END:VCALENDAR
