BEGIN:VCALENDAR
VERSION:2.0
PRODID:-//ChamberMaster//Event Calendar 2.0//EN
METHOD:PUBLISH
X-PUBLISHED-TTL:P3D
REFRESH-INTERVAL:P3D
CALSCALE:GREGORIAN
BEGIN:VEVENT
DTSTART:20090120T140000Z
DTEND:20090120T160000Z
X-MICROSOFT-CDO-ALLDAYEVENT:FALSE
SUMMARY:Creating a 21st Century Business Community
DESCRIPTION:HELP US CHART THE CHAMBER’S FUTURE\nJoin us January 20 as we explore ways to create the premier \n“21st Century Business Community”\nWe’ll be at the Batavia Library from 8:00am to 11:00am\nAs we continue to build the Batavia Chamber of Commerce into the premier 21st Century Business Community\, we need to constantly recreate the ways we meet\, gain confidence in each others' abilities and co-create value. There will always be an role for After Hours\, lunches\, expos\, golf outings and leads groups to cement business relationships\, but which are most effective? What is the role of LinkedIn\, FaceBook\, MySpace and other new technologies? If you would like to be on the leading edge\, don't miss this opportunity to help recreate Batavia's voice for business.\nBring your ideas\, passion and creativity!
X-ALT-DESC;FMTTYPE=text/html:<DIV style="FONT-FAMILY: Arial" align=center><FONT color=#0000a0><STRONG>HELP US CHART THE CHAMBER’S FUTURE<BR></STRONG>Join us January 20 as we explore ways to create the premier <BR><STRONG><EM><FONT color=#ff0000 size=4>“21st Century Business Community”</FONT><BR></EM></STRONG><FONT size=2>We’ll be at the Batavia Library from 8:00am to 11:00am</FONT></FONT></DIV><DIV style="FONT-FAMILY: Arial" align=left><BR><FONT color=#0000a0>As we continue to build the Batavia Chamber of Commerce into the premier 21st Century Business Community\, we need to constantly recreate the ways we meet\, gain confidence in each others' abilities and co-create value.</FONT></DIV><DIV style="FONT-FAMILY: Arial" align=left><FONT color=#0000a0>&nbsp\;</DIV></FONT><DIV style="FONT-FAMILY: Arial" align=left><FONT color=#0000a0>There will always be an role for After Hours\, lunches\, expos\, golf outings and leads groups to cement business relationships\, but which are most effective? What is the role of LinkedIn\, FaceBook\, MySpace and other new technologies?</FONT></DIV><DIV style="FONT-FAMILY: Arial" align=left><FONT color=#0000a0>&nbsp\;</DIV></FONT><DIV style="FONT-FAMILY: Arial" align=left><FONT color=#0000a0>If you would like to be on the leading edge\, don't miss this opportunity to help recreate Batavia's voice for business.</FONT></DIV><DIV style="FONT-FAMILY: Arial" align=center><BR><STRONG><FONT color=#ff0000>Bring your ideas\, passion and creativity!<BR></FONT></STRONG></DIV><DIV style="FONT-FAMILY: Arial" align=left><FONT color=#0000a0></FONT></DIV>
LOCATION:Batavia Public Library
UID:e.1902.1654
SEQUENCE:3
DTSTAMP:20260422T025632Z
URL:http://business.bataviachamber.org/events/details/creating-a-21st-century-business-community-01-20-2009-1654
END:VEVENT

END:VCALENDAR
