BEGIN:VCALENDAR
VERSION:2.0
PRODID:-//ChamberMaster//Event Calendar 2.0//EN
METHOD:PUBLISH
X-PUBLISHED-TTL:P3D
REFRESH-INTERVAL:P3D
CALSCALE:GREGORIAN
BEGIN:VEVENT
DTSTART:20090204T210000Z
DTEND:20090205T020000Z
X-MICROSOFT-CDO-ALLDAYEVENT:FALSE
SUMMARY:COSTCO ''Chamber Members Only'' Reception
DESCRIPTION:COSTCO\nSt. Charles\nPresentsChamber of Commerce\nMembers Only\n ReceptionYou Are Cordially Invited To Attend \nA Special Reception\nOn Wednesday\, February 4\, 2009\n3:00-8:00pmCostco is offering you an additional savings on your new membership!Come See What the Talk of The Town Is All About!Costco Wholesale\n221 S. Randall Rd.\nSt. Charles\, IL. 60174
X-ALT-DESC;FMTTYPE=text/html:<P align=center><FONT color=#0000ff size=5><FONT color=#ff0000 size=6><STRONG>COSTCO<BR></STRONG></FONT>St. Charles<BR>Presents</FONT></P><P align=center><FONT color=#0000ff size=5>Chamber of Commerce<BR>Members Only<BR>&nbsp\;Reception</FONT></P><P align=center><FONT color=#0000ff size=5>You Are Cordially Invited To Attend <BR>A Special Reception<BR>On Wednesday\, February 4\, 2009<BR>3:00-8:00pm</FONT></P><P align=center><FONT color=#0000ff size=5>Costco is offering you an additional savings on your new membership!</FONT></P><P align=center><FONT color=#0000ff size=5>Come See What the Talk of The Town Is All About!</FONT></P><P align=center><FONT color=#0000ff><FONT size=5>Costco Wholesale<BR>221 S. Randall Rd.<BR>St. Charles\, IL. 60174<BR></FONT></P></FONT>
LOCATION:COSTCO
UID:e.1902.1209
SEQUENCE:3
DTSTAMP:20260422T015949Z
URL:http://business.bataviachamber.org/events/details/costco-chamber-members-only-reception-02-04-2009-1209
END:VEVENT

END:VCALENDAR
