BEGIN:VCALENDAR
VERSION:2.0
PRODID:-//ChamberMaster//Event Calendar 2.0//EN
METHOD:PUBLISH
X-PUBLISHED-TTL:P3D
REFRESH-INTERVAL:P3D
CALSCALE:GREGORIAN
BEGIN:VEVENT
DTSTART:20250613T003000Z
DTEND:20250615T040000Z
X-MICROSOFT-CDO-ALLDAYEVENT:FALSE
SUMMARY:Corey B Stand Up Comedy
DESCRIPTION:Don't miss Corey Bonalewicz\, aka Corey B\, live at The Comedy Vault June 12-14! Known for his viral comedic content with over 10M TikTok followers\, Corey brings his sharp humor and high energy from the radio waves to the stage. Grab your tickets now for a night of unforgettable laughs!
X-ALT-DESC;FMTTYPE=text/html:Don&rsquo\;t miss Corey Bonalewicz\, aka Corey B\, live at The Comedy Vault June 12-14! Known for his viral comedic content with over 10M TikTok followers\, Corey brings his sharp humor and high energy from the radio waves to the stage. Grab your tickets now for a night of unforgettable laughs!
LOCATION:The Comedy Vault
UID:e.1902.26585
SEQUENCE:3
DTSTAMP:20260422T081809Z
URL:http://business.bataviachamber.org/events/details/corey-b-stand-up-comedy-26585
END:VEVENT

END:VCALENDAR
