BEGIN:VCALENDAR
VERSION:2.0
PRODID:-//ChamberMaster//Event Calendar 2.0//EN
METHOD:PUBLISH
X-PUBLISHED-TTL:P3D
REFRESH-INTERVAL:P3D
CALSCALE:GREGORIAN
BEGIN:VEVENT
DTSTART:20081113T223000Z
DTEND:20081114T013000Z
X-MICROSOFT-CDO-ALLDAYEVENT:FALSE
SUMMARY:Cooper Hong Inc Open House benefiting Lazarus House
DESCRIPTION:Locally based PR and marketing communications firm Cooper Hong Inc. is hosting an open house on Thursday\, Nov. 13. The event will showcase the firm’s new location and larger facility at 2560 Foxfield Road\, Suite 320\, in St. Charles.  In addition\, the event will serve as a “necessities drive” for Lazarus House\, a local not-for-profit shelter and transitional housing program serving men\, women and children in the Tri-Cities and western rural Kane County. CHI will be collecting items from their “Needs List.” These include cleaning supplies\, blankets\, over-the-counter cough-and-cold and pain medications\, diapers and wipes\, socks and underwear\, and personal toiletries\, such as toothbrushes\, toothpaste\, shampoo\, soap\, lotion and deodorant. A complete list of current needs appears at http://lazarushouseonline.com/needs.php.\n\nThe open house will feature displays branding\, advertising\, direct mail\, Web and PR work the company has developed for its clients. This open house will provide an opportunity for area business people to meet the CHI team and see one of the Fox Valley’s fastest-growing marketing communications firms. Because they also do event planning\, attendees can count on food\, beverages and entertainment!\nEstablished in the spring of 2006\, Cooper Hong Inc. is a full-service provider of integrated marketing communications and public relations services.
X-ALT-DESC;FMTTYPE=text/html:<DIV style="FONT-FAMILY: Arial" align=left>Locally based PR and marketing communications firm Cooper Hong Inc. is hosting an open house on Thursday\, Nov. 13. The event will showcase the firm’s new location and larger facility at 2560 Foxfield Road\, Suite 320\, in St. Charles. </DIV><DIV style="FONT-FAMILY: Arial" align=left>&nbsp\;</DIV><DIV style="FONT-FAMILY: Arial" align=left>In addition\, the event will serve as a “necessities drive” for Lazarus House\, a local not-for-profit shelter and transitional housing program serving men\, women and children in the Tri-Cities and western rural Kane County.&nbsp\;CHI will be collecting items from their “Needs List.” These include cleaning supplies\, blankets\, over-the-counter cough-and-cold and pain medications\, diapers and wipes\, socks and underwear\, and personal toiletries\, such as toothbrushes\, toothpaste\, shampoo\, soap\, lotion and deodorant. A complete list of current needs appears at <A href="http://lazarushouseonline.com/needs.php">http://lazarushouseonline.com/needs.php</A>.<BR><BR>The open house will feature displays branding\, advertising\, direct mail\, Web and PR work the company has developed for its clients. This open house will provide an opportunity for area business people to meet the CHI team and see one of the Fox Valley’s fastest-growing marketing communications firms. Because they also do event planning\, attendees can count on food\, beverages and entertainment!</DIV><DIV style="FONT-FAMILY: Arial" align=left><BR>Established in the spring of 2006\, Cooper Hong Inc. is a full-service provider of integrated marketing communications and public relations services.</DIV>
LOCATION:Cooper Hong Inc
UID:e.1902.1207
SEQUENCE:3
DTSTAMP:20260422T063349Z
URL:http://business.bataviachamber.org/events/details/cooper-hong-inc-open-house-benefiting-lazarus-house-11-13-2008-1207
END:VEVENT

END:VCALENDAR
