BEGIN:VCALENDAR
VERSION:2.0
PRODID:-//ChamberMaster//Event Calendar 2.0//EN
METHOD:PUBLISH
X-PUBLISHED-TTL:P3D
REFRESH-INTERVAL:P3D
CALSCALE:GREGORIAN
BEGIN:VEVENT
DTSTART:20250214T000000Z
DTEND:20250214T020000Z
X-MICROSOFT-CDO-ALLDAYEVENT:FALSE
SUMMARY:Cooking Class at Prairie Landing Golf Club
DESCRIPTION:Cooking Class with Prairie Landing Golf Club's very own Executive Chef! February 13\, 2025 at 6:00 PM.  \n\n$150 per couple (tax & service charge included) \n\nInvite your Valentine or Galentine to join in a delightful interactive cooking class! Learn to make ravioli from scratch alongside our Executive Chef. This experience features wine served throughout\, a charcuterie board\, a freshly made Caesar salad\, the pasta you prepare\, a choice of sauce\, and a dessert of champagne paired with chocolate-covered strawberries.\n\nBook your reservation by calling 630.208.7641 or email rlynn@prairielanding.com before 2.7.2025\n\nWhat to expect:\n\nLimited to 10 couples\n\nWine will be provided during the experience\n\nYou will make the dough and ravioli \n\nEnjoy a charcuterie board during the process\n\nCaesar salad will be provided while the pasta is cooking\n\nEat the pasta you cooked with your choice of sauce from marinara\, alfredo\, or vodka sauce\n\nEnd your evening with champagne and chocolate-covered strawberries
X-ALT-DESC;FMTTYPE=text/html:<p style="margin-left:0px\; margin-right:0px"><span style="font-size:18px">Cooking Class with Prairie Landing Golf Club&rsquo\;s very own Executive Chef! February 13\, 2025 at 6:00 PM.&nbsp\;&nbsp\;<br />\n$150 per couple (tax &amp\; service charge included)&nbsp\;</span></p>\n\n<p style="margin-left:0px\; margin-right:0px"><span style="font-size:18px">Invite your Valentine or Galentine to join in a delightful interactive cooking class! Learn to make ravioli from scratch alongside our Executive Chef. This experience features wine served throughout\, a charcuterie board\, a freshly made Caesar salad\, the pasta you prepare\, a choice of sauce\, and a dessert of champagne paired with chocolate-covered strawberries.</span></p>\n\n<p style="margin-left:0px\; margin-right:0px"><span style="font-size:18px">Book your reservation by calling 630.208.7641 or email&nbsp\;<a href="mailto:rlynn@prairielanding.com">rlynn@prairielanding.com</a>&nbsp\;before 2.7.2025</span></p>\n\n<p style="margin-left:0px\; margin-right:0px"><span style="font-size:18px">What to expect:</span><br />\nLimited to 10 couples<br />\nWine will be provided during the experience<br />\nYou will make the dough and ravioli&nbsp\;<br />\nEnjoy a charcuterie board during the process<br />\nCaesar salad will be provided while the pasta is cooking<br />\nEat the pasta you cooked with your choice of sauce from marinara\, alfredo\, or vodka sauce<br />\nEnd your evening with champagne and chocolate-covered strawberries</p>\n
LOCATION:Prairie Landing Golf Club 2325 Longest Drive West Chicago\, IL 60185
UID:e.1902.26804
SEQUENCE:3
DTSTAMP:20260422T150638Z
URL:http://business.bataviachamber.org/events/details/cooking-class-at-prairie-landing-golf-club-26804
END:VEVENT

END:VCALENDAR
