BEGIN:VCALENDAR
VERSION:2.0
PRODID:-//ChamberMaster//Event Calendar 2.0//EN
METHOD:PUBLISH
X-PUBLISHED-TTL:P3D
REFRESH-INTERVAL:P3D
CALSCALE:GREGORIAN
BEGIN:VEVENT
DTSTART:20091022T193000Z
DTEND:20091022T203000Z
X-MICROSOFT-CDO-ALLDAYEVENT:FALSE
SUMMARY:COMPUTERPALOOZA! - Workshop Stations for Microsoft Office 20
DESCRIPTION:Individual stations will be setup for you to bring your working files (Excel\, Word\, PowerPoint and Publisher) and/or questions\, and to get help from the facilitators and each other.  This is a great opportunity to share ideas and solutions for simplifying your business processes by utilizing your existing software.Workshop limited to 20 participants
X-ALT-DESC;FMTTYPE=text/html:<P align=left><SPAN style="FONT-SIZE: 10pt\; LINE-HEIGHT: 115%\; FONT-FAMILY: Arial\; mso-fareast-font-family: Calibri\; mso-ansi-language: EN-US\; mso-fareast-language: EN-US\; mso-bidi-language: AR-SA"><SPAN style="FONT-SIZE: 10pt\; LINE-HEIGHT: 115%\; FONT-FAMILY: Arial\; mso-fareast-font-family: Calibri\; mso-ansi-language: EN-US\; mso-fareast-language: EN-US\; mso-bidi-language: AR-SA"><SPAN style="FONT-SIZE: 10pt\; LINE-HEIGHT: 115%\; FONT-FAMILY: Arial\; mso-fareast-font-family: Calibri\; mso-ansi-language: EN-US\; mso-fareast-language: EN-US\; mso-bidi-language: AR-SA"><SPAN style="FONT-SIZE: 10pt\; LINE-HEIGHT: 115%\; FONT-FAMILY: Arial\; mso-fareast-font-family: Calibri\; mso-ansi-language: EN-US\; mso-fareast-language: EN-US\; mso-bidi-language: AR-SA"><FONT color=#0000ff size=4>Individual stations will be setup for you to bring your working <FONT color=#0000ff>files (Excel\, Word\, PowerPoint and Publisher)&nbsp\;and/or questions\, and to get help from the facilitators and each other.<SPAN style="mso-spacerun: yes">&nbsp\; </SPAN>This is a great opportunity to share ideas and solutions for</FONT> simplifying your business processes by utilizing your existing software.</FONT></SPAN></SPAN></SPAN></SPAN></P><P align=left><SPAN style="FONT-SIZE: 10pt\; LINE-HEIGHT: 115%\; FONT-FAMILY: Arial\; mso-fareast-font-family: Calibri\; mso-ansi-language: EN-US\; mso-fareast-language: EN-US\; mso-bidi-language: AR-SA"><SPAN style="FONT-SIZE: 10pt\; LINE-HEIGHT: 115%\; FONT-FAMILY: Arial\; mso-fareast-font-family: Calibri\; mso-ansi-language: EN-US\; mso-fareast-language: EN-US\; mso-bidi-language: AR-SA"></SPAN></SPAN><SPAN style="FONT-SIZE: 10pt\; LINE-HEIGHT: 115%\; FONT-FAMILY: Arial\; mso-fareast-font-family: Calibri\; mso-ansi-language: EN-US\; mso-fareast-language: EN-US\; mso-bidi-language: AR-SA"><FONT color=#800000 size=4><EM>Workshop limited to&nbsp\;20 participants</EM></FONT></SPAN></P>
LOCATION:Byrnes Commercial Real Estate
UID:e.1902.1822
SEQUENCE:3
DTSTAMP:20260421T112101Z
URL:http://business.bataviachamber.org/events/details/computerpalooza-workshop-stations-for-microsoft-office-20-10-22-2009-1822
END:VEVENT

END:VCALENDAR
