BEGIN:VCALENDAR
VERSION:2.0
PRODID:-//ChamberMaster//Event Calendar 2.0//EN
METHOD:PUBLISH
X-PUBLISHED-TTL:P3D
REFRESH-INTERVAL:P3D
CALSCALE:GREGORIAN
BEGIN:VEVENT
DTSTART:20091022T130000Z
DTEND:20091022T153000Z
X-MICROSOFT-CDO-ALLDAYEVENT:FALSE
SUMMARY:COMPUTERPALOOZA! - Topic TBA
DESCRIPTION:This time slot is reserved to repeat an over-subscribed session from days 1 & 2.Hands-on session limited to 12 participants
X-ALT-DESC;FMTTYPE=text/html:<P align=left><SPAN style="FONT-SIZE: 10pt\; LINE-HEIGHT: 115%\; FONT-FAMILY: Arial\; mso-fareast-font-family: Calibri\; mso-ansi-language: EN-US\; mso-fareast-language: EN-US\; mso-bidi-language: AR-SA"><SPAN style="FONT-SIZE: 10pt\; LINE-HEIGHT: 115%\; FONT-FAMILY: Arial\; mso-fareast-font-family: Calibri\; mso-ansi-language: EN-US\; mso-fareast-language: EN-US\; mso-bidi-language: AR-SA"><FONT color=#0000ff size=4>This time slot is reserved to repeat an over-subscribed session from days 1 &amp\; 2.</FONT></SPAN></SPAN></P><P align=left><SPAN style="FONT-SIZE: 10pt\; LINE-HEIGHT: 115%\; FONT-FAMILY: Arial\; mso-fareast-font-family: Calibri\; mso-ansi-language: EN-US\; mso-fareast-language: EN-US\; mso-bidi-language: AR-SA"><FONT color=#800000 size=4><EM>Hands-on session limited to 12 participants</EM></FONT></SPAN></P>
LOCATION:Byrnes Commercial Real Estate
UID:e.1902.1819
SEQUENCE:3
DTSTAMP:20260421T112342Z
URL:http://business.bataviachamber.org/events/details/computerpalooza-topic-tba-10-22-2009-1819
END:VEVENT

END:VCALENDAR
