BEGIN:VCALENDAR
VERSION:2.0
PRODID:-//ChamberMaster//Event Calendar 2.0//EN
METHOD:PUBLISH
X-PUBLISHED-TTL:P3D
REFRESH-INTERVAL:P3D
CALSCALE:GREGORIAN
BEGIN:VEVENT
DTSTART:20091021T193000Z
DTEND:20091021T203000Z
X-MICROSOFT-CDO-ALLDAYEVENT:FALSE
SUMMARY:COMPUTERPALOOZA! - QuickBooks Reporting
DESCRIPTION:Learn to get more out of QuickBooks by making the most of reports.  Personalize standard reports or create your own from scratch.  Change report output by modifying date ranges\, columns to include\, accounts to be used and header and footers.Hot Topic Demonstration Session limited to 35 participants
X-ALT-DESC;FMTTYPE=text/html:<P align=left><SPAN style="FONT-SIZE: 10pt\; LINE-HEIGHT: 115%\; FONT-FAMILY: Arial\; mso-fareast-font-family: Calibri\; mso-ansi-language: EN-US\; mso-fareast-language: EN-US\; mso-bidi-language: AR-SA"><SPAN style="FONT-SIZE: 10pt\; LINE-HEIGHT: 115%\; FONT-FAMILY: Arial\; mso-fareast-font-family: Calibri\; mso-ansi-language: EN-US\; mso-fareast-language: EN-US\; mso-bidi-language: AR-SA"><SPAN style="FONT-SIZE: 10pt\; LINE-HEIGHT: 115%\; FONT-FAMILY: Arial\; mso-fareast-font-family: Calibri\; mso-ansi-language: EN-US\; mso-fareast-language: EN-US\; mso-bidi-language: AR-SA"><FONT color=#0000ff size=4>Learn to get more out of QuickBooks by making the most of reports.<SPAN style="mso-spacerun: yes">&nbsp\; </SPAN>Personalize standard reports or create your own from scratch.<SPAN style="mso-spacerun: yes">&nbsp\; </SPAN>Change report output by modifying date ranges\, columns to include\, accounts to be used and header and footers.</FONT></SPAN></SPAN></SPAN></P><P align=left><SPAN style="FONT-SIZE: 10pt\; LINE-HEIGHT: 115%\; FONT-FAMILY: Arial\; mso-fareast-font-family: Calibri\; mso-ansi-language: EN-US\; mso-fareast-language: EN-US\; mso-bidi-language: AR-SA"><FONT color=#800000 size=4><EM><SPAN style="FONT-SIZE: 10pt\; LINE-HEIGHT: 115%\; FONT-FAMILY: Arial\; mso-fareast-font-family: Calibri\; mso-ansi-language: EN-US\; mso-fareast-language: EN-US\; mso-bidi-language: AR-SA"><FONT color=#800000 size=4><EM>Hot&nbsp\;Topic <U>Demonstration</U> Session </EM></FONT></SPAN>limited to&nbsp\;35 participants</EM></FONT></SPAN></P>
LOCATION:Byrnes Commercial Real Estate
UID:e.1902.1818
SEQUENCE:3
DTSTAMP:20260421T112209Z
URL:http://business.bataviachamber.org/events/details/computerpalooza-quickbooks-reporting-10-21-2009-1818
END:VEVENT

END:VCALENDAR
