BEGIN:VCALENDAR
VERSION:2.0
PRODID:-//ChamberMaster//Event Calendar 2.0//EN
METHOD:PUBLISH
X-PUBLISHED-TTL:P3D
REFRESH-INTERVAL:P3D
CALSCALE:GREGORIAN
BEGIN:VEVENT
DTSTART:20091020T180000Z
DTEND:20091020T203000Z
X-MICROSOFT-CDO-ALLDAYEVENT:FALSE
SUMMARY:COMPUTERPALOOZA! - Introduction to PowerPoint 2007
DESCRIPTION:Need to communicate information about your company or a project in a creative\, effective manner?  Create a powerful PowerPoint presentation\, start to finish\, by learning the “Rule of 7”\, which will help you add precise\, relevant text to your slides.  Discover how graphics and slide transitions can spice things up.Hands-on session limited to 12 participants
X-ALT-DESC;FMTTYPE=text/html:<P align=left><SPAN style="FONT-SIZE: 10pt\; LINE-HEIGHT: 115%\; FONT-FAMILY: Arial\; mso-fareast-font-family: Calibri\; mso-ansi-language: EN-US\; mso-fareast-language: EN-US\; mso-bidi-language: AR-SA"><SPAN style="FONT-SIZE: 10pt\; LINE-HEIGHT: 115%\; FONT-FAMILY: Arial\; mso-fareast-font-family: Calibri\; mso-ansi-language: EN-US\; mso-fareast-language: EN-US\; mso-bidi-language: AR-SA"><FONT color=#0000ff size=4>Need to communicate information about your company or a project in a creative\, effective manner?<SPAN style="mso-spacerun: yes">&nbsp\; </SPAN>Create a powerful PowerPoint presentation\, start to finish\, by learning the “Rule of 7”\, which will help you add precise\, relevant text to your slides.<SPAN style="mso-spacerun: yes">&nbsp\; </SPAN>Discover how graphics and slide transitions can spice things up.</FONT></SPAN></SPAN></P><P align=left><SPAN style="FONT-SIZE: 10pt\; LINE-HEIGHT: 115%\; FONT-FAMILY: Arial\; mso-fareast-font-family: Calibri\; mso-ansi-language: EN-US\; mso-fareast-language: EN-US\; mso-bidi-language: AR-SA"><SPAN style="FONT-SIZE: 10pt\; LINE-HEIGHT: 115%\; FONT-FAMILY: Arial\; mso-fareast-font-family: Calibri\; mso-ansi-language: EN-US\; mso-fareast-language: EN-US\; mso-bidi-language: AR-SA"></SPAN></SPAN><SPAN style="FONT-SIZE: 10pt\; LINE-HEIGHT: 115%\; FONT-FAMILY: Arial\; mso-fareast-font-family: Calibri\; mso-ansi-language: EN-US\; mso-fareast-language: EN-US\; mso-bidi-language: AR-SA"><FONT color=#800000 size=4><EM>Hands-on session limited to 12 participants</EM></FONT></SPAN></P>
LOCATION:Byrnes Commercial Real Estate
UID:e.1902.1813
SEQUENCE:3
DTSTAMP:20260421T112354Z
URL:http://business.bataviachamber.org/events/details/computerpalooza-introduction-to-powerpoint-2007-10-20-2009-1813
END:VEVENT

END:VCALENDAR
