BEGIN:VCALENDAR
VERSION:2.0
PRODID:-//ChamberMaster//Event Calendar 2.0//EN
METHOD:PUBLISH
X-PUBLISHED-TTL:P3D
REFRESH-INTERVAL:P3D
CALSCALE:GREGORIAN
BEGIN:VEVENT
DTSTART:20091022T160000Z
DTEND:20091022T170000Z
X-MICROSOFT-CDO-ALLDAYEVENT:FALSE
SUMMARY:COMPUTERPALOOZA! - Excel 2007 Pivot Tables
DESCRIPTION:Discover the convenience of using pivot tables in Excel to summarize data by category with a couple of clicks.  For example\, print summaries by quarter\, by sales rep\, then by product category quickly without changing any formulas.Hot Topic Demonstration Session limited to 35 participants
X-ALT-DESC;FMTTYPE=text/html:<P align=left><SPAN style="FONT-SIZE: 10pt\; LINE-HEIGHT: 115%\; FONT-FAMILY: Arial\; mso-fareast-font-family: Calibri\; mso-ansi-language: EN-US\; mso-fareast-language: EN-US\; mso-bidi-language: AR-SA"><SPAN style="FONT-SIZE: 10pt\; LINE-HEIGHT: 115%\; FONT-FAMILY: Arial\; mso-fareast-font-family: Calibri\; mso-ansi-language: EN-US\; mso-fareast-language: EN-US\; mso-bidi-language: AR-SA"><SPAN style="FONT-SIZE: 10pt\; LINE-HEIGHT: 115%\; FONT-FAMILY: Arial\; mso-fareast-font-family: Calibri\; mso-ansi-language: EN-US\; mso-fareast-language: EN-US\; mso-bidi-language: AR-SA"><SPAN style="FONT-SIZE: 10pt\; LINE-HEIGHT: 115%\; FONT-FAMILY: Arial\; mso-fareast-font-family: Calibri\; mso-ansi-language: EN-US\; mso-fareast-language: EN-US\; mso-bidi-language: AR-SA"><FONT color=#0000ff size=4>Discover the convenience of using pivot tables in Excel to summarize data by category with a couple of clicks.<SPAN style="mso-spacerun: yes">&nbsp\; </SPAN>For example\, print summaries by quarter\, by sales rep\, then by product category quickly without changing any formulas.</FONT></SPAN></SPAN></SPAN></SPAN></P><P align=left><SPAN style="FONT-SIZE: 10pt\; LINE-HEIGHT: 115%\; FONT-FAMILY: Arial\; mso-fareast-font-family: Calibri\; mso-ansi-language: EN-US\; mso-fareast-language: EN-US\; mso-bidi-language: AR-SA"><FONT color=#800000 size=4><EM><SPAN style="FONT-SIZE: 10pt\; LINE-HEIGHT: 115%\; FONT-FAMILY: Arial\; mso-fareast-font-family: Calibri\; mso-ansi-language: EN-US\; mso-fareast-language: EN-US\; mso-bidi-language: AR-SA"><FONT color=#800000 size=4><EM>Hot&nbsp\;Topic <U>Demonstration</U> Session </EM></FONT></SPAN>limited to&nbsp\;35 participants</EM></FONT></SPAN></P>
LOCATION:Byrnes Commercial Real Estate
UID:e.1902.1820
SEQUENCE:3
DTSTAMP:20260421T112243Z
URL:http://business.bataviachamber.org/events/details/computerpalooza-excel-2007-pivot-tables-10-22-2009-1820
END:VEVENT

END:VCALENDAR
