BEGIN:VCALENDAR
VERSION:2.0
PRODID:-//ChamberMaster//Event Calendar 2.0//EN
METHOD:PUBLISH
X-PUBLISHED-TTL:P3D
REFRESH-INTERVAL:P3D
CALSCALE:GREGORIAN
BEGIN:VEVENT
DTSTART:20091021T160000Z
DTEND:20091021T170000Z
X-MICROSOFT-CDO-ALLDAYEVENT:FALSE
SUMMARY:COMPUTERPALOOZA! - Drawing & Graphics for Microsoft Office 2
DESCRIPTION:Use Microsoft Office drawing tools to add arrows and other shapes to your documents\, and to resize\, brighten and add special effects to photographs\, logos and other images.Hot Topic Demonstration Session limited to 35 participants
X-ALT-DESC;FMTTYPE=text/html:<P align=left><SPAN style="FONT-SIZE: 10pt\; LINE-HEIGHT: 115%\; FONT-FAMILY: Arial\; mso-fareast-font-family: Calibri\; mso-ansi-language: EN-US\; mso-fareast-language: EN-US\; mso-bidi-language: AR-SA"><SPAN style="FONT-SIZE: 10pt\; LINE-HEIGHT: 115%\; FONT-FAMILY: Arial\; mso-fareast-font-family: Calibri\; mso-ansi-language: EN-US\; mso-fareast-language: EN-US\; mso-bidi-language: AR-SA"><SPAN style="FONT-SIZE: 10pt\; LINE-HEIGHT: 115%\; FONT-FAMILY: Arial\; mso-fareast-font-family: Calibri\; mso-ansi-language: EN-US\; mso-fareast-language: EN-US\; mso-bidi-language: AR-SA"><FONT color=#0000ff size=4>Use Microsoft Office drawing tools to add arrows and other shapes to your documents\, and to resize\, brighten and add special effects to photographs\, logos and other images.</FONT></SPAN></SPAN></SPAN></P><P align=left><SPAN style="FONT-SIZE: 10pt\; LINE-HEIGHT: 115%\; FONT-FAMILY: Arial\; mso-fareast-font-family: Calibri\; mso-ansi-language: EN-US\; mso-fareast-language: EN-US\; mso-bidi-language: AR-SA"><FONT color=#800000 size=4><EM><SPAN style="FONT-SIZE: 10pt\; LINE-HEIGHT: 115%\; FONT-FAMILY: Arial\; mso-fareast-font-family: Calibri\; mso-ansi-language: EN-US\; mso-fareast-language: EN-US\; mso-bidi-language: AR-SA"><FONT color=#800000 size=4><EM>Hot&nbsp\;Topic <U>Demonstration</U> Session </EM></FONT></SPAN>limited to&nbsp\;35 participants</EM></FONT></SPAN></P>
LOCATION:Byrnes Commercial Real Estate
UID:e.1902.1816
SEQUENCE:3
DTSTAMP:20260421T112159Z
URL:http://business.bataviachamber.org/events/details/computerpalooza-drawing-graphics-for-microsoft-office-2-10-21-2009-1816
END:VEVENT

END:VCALENDAR
