BEGIN:VCALENDAR
VERSION:2.0
PRODID:-//ChamberMaster//Event Calendar 2.0//EN
METHOD:PUBLISH
X-PUBLISHED-TTL:P3D
REFRESH-INTERVAL:P3D
CALSCALE:GREGORIAN
BEGIN:VEVENT
DTSTART:20091022T180000Z
DTEND:20091022T190000Z
X-MICROSOFT-CDO-ALLDAYEVENT:FALSE
SUMMARY:COMPUTERPALOOZA! - Customer Relationshp Management with ACT!
DESCRIPTION:Are you managing your key contacts as effectively as you can? ACT! Contact Management Software\, enables you and your team to track all customer communications\, manage and prioritize activities and grow productive business relationships. Join us for an overview of this leading contact management solution. Hot Topic Demonstration Session limited to 35 participants
X-ALT-DESC;FMTTYPE=text/html:<P align=left><SPAN style="FONT-SIZE: 10pt\; LINE-HEIGHT: 115%\; FONT-FAMILY: Arial\; mso-fareast-font-family: Calibri\; mso-ansi-language: EN-US\; mso-fareast-language: EN-US\; mso-bidi-language: AR-SA"><SPAN style="FONT-SIZE: 10pt\; LINE-HEIGHT: 115%\; FONT-FAMILY: Arial\; mso-fareast-font-family: Calibri\; mso-ansi-language: EN-US\; mso-fareast-language: EN-US\; mso-bidi-language: AR-SA"><FONT size=4><SPAN style="FONT-SIZE: 10pt\; LINE-HEIGHT: 115%\; FONT-FAMILY: Arial\; mso-fareast-font-family: Calibri\; mso-ansi-language: EN-US\; mso-fareast-language: EN-US\; mso-bidi-language: AR-SA"><FONT color=#0000ff size=4>Are you managing your key contacts as effectively as you can? ACT! Contact Management Software\, enables you and your team to track all customer communications\, manage and prioritize activities and grow productive business relationships. Join us for an overview of this leading contact management solution.</FONT> </SPAN></FONT></SPAN></SPAN></P><SPAN style="FONT-SIZE: 10pt\; LINE-HEIGHT: 115%\; FONT-FAMILY: Arial\; mso-fareast-font-family: Calibri\; mso-ansi-language: EN-US\; mso-fareast-language: EN-US\; mso-bidi-language: AR-SA"><FONT color=#800000 size=4><EM><P align=left><SPAN style="FONT-SIZE: 10pt\; LINE-HEIGHT: 115%\; FONT-FAMILY: Arial\; mso-fareast-font-family: Calibri\; mso-ansi-language: EN-US\; mso-fareast-language: EN-US\; mso-bidi-language: AR-SA"><FONT color=#800000 size=4><EM><SPAN style="FONT-SIZE: 10pt\; LINE-HEIGHT: 115%\; FONT-FAMILY: Arial\; mso-fareast-font-family: Calibri\; mso-ansi-language: EN-US\; mso-fareast-language: EN-US\; mso-bidi-language: AR-SA"><FONT color=#800000 size=4><EM>Hot&nbsp\;Topic <U>Demonstration</U> Session </EM></FONT></SPAN>limited to&nbsp\;35 participants</EM></FONT></SPAN></P></EM></FONT></SPAN>
LOCATION:Byrnes Commercial Real Estate
UID:e.1902.1821
SEQUENCE:3
DTSTAMP:20260421T112429Z
URL:http://business.bataviachamber.org/events/details/computerpalooza-customer-relationshp-management-with-act-10-22-2009-1821
END:VEVENT

END:VCALENDAR
