BEGIN:VCALENDAR
VERSION:2.0
PRODID:-//ChamberMaster//Event Calendar 2.0//EN
METHOD:PUBLISH
X-PUBLISHED-TTL:P3D
REFRESH-INTERVAL:P3D
CALSCALE:GREGORIAN
BEGIN:VEVENT
DTSTART:20250415T120000Z
DTEND:20250415T130000Z
X-MICROSOFT-CDO-ALLDAYEVENT:FALSE
SUMMARY:Community Connection Yoga Series: A Journey of Wellness\, Unity\, and Mental Health
DESCRIPTION:Community Connection Yoga Series: A Journey of Wellness\, Unity\, and Mental Health\n\nTuesday Mornings in April @ 7am\n\nApril 8th\, 15th\, 22nd and 29th\n\nJoin us for our Community Connection Yoga Series\, where we come together through the transformative practice of traditional yoga to nurture both physical and mental well-being. This series is designed to cultivate a supportive\, inclusive community centered on healing\, personal growth\, and connection.\n\nEach class includes traditional yoga postures\, breathwork\, and meditation\, offering a practice that enhances physical strength\, mental clarity\, and emotional balance. Yoga provides powerful tools to manage stress\, reduce anxiety\, and promote emotional healing\, making it an essential resource for overall well-being. In today's fast-paced world\, this series creates space for restoration\, self-care\, and meaningful connection.\n\nWhile the yoga class is designed to support your physical and mental health\, we also understand that true well-being thrives in community. After the class\, we invite you to stay for our free community gathering\, a chance to connect with fellow participants in a relaxed\, informal environment. This gathering offers an opportunity for open conversation\, shared support\, and a deeper connection to those within your community.\n\n\n	7:00 am   April 8th\, 15th\, 22nd and 29th\n	8:00 am   Community Fellowship immediately after the yoga class\n\n\nSign up today and join us for an experience that nourishes both body and mind. Together\, we'll move\, grow\, and heal in a supportive\, vibrant community.\n\nInvestment: $20 Single Class Drop In\, Package of 4 Classes (Month of April) for $64\n\nHosted by: April Waldrop & Torus Center\n\nLocation: Torus Center for Integrative Healing\, 121 Flinn St Batavia\, IL 60510\; Suite 121
X-ALT-DESC;FMTTYPE=text/html:<h3>Community Connection Yoga Series: A Journey of Wellness\, Unity\, and Mental Health</h3>\n\n<p><strong>Tuesday Mornings in April @ 7am</strong></p>\n\n<p><strong>April 8th\, 15th\, 22nd and 29th</strong></p>\n\n<p>Join us for our&nbsp\;Community Connection Yoga Series\, where we come together through the transformative practice of&nbsp\;traditional yoga&nbsp\;to nurture both physical and mental well-being. This series is designed to cultivate a&nbsp\;supportive\, inclusive community&nbsp\;centered on healing\, personal growth\, and connection.</p>\n\n<p>Each class includes&nbsp\;traditional yoga postures\, breathwork\, and meditation\, offering a practice that enhances&nbsp\;physical strength\, mental clarity\, and emotional balance. Yoga provides powerful tools to&nbsp\;manage stress\, reduce anxiety\, and promote emotional healing\, making it an essential resource for overall well-being. In today&rsquo\;s fast-paced world\, this series creates space for&nbsp\;restoration\, self-care\, and meaningful connection.</p>\n\n<p>While the yoga class is designed to support your physical and mental health\, we also understand that true well-being thrives in community. After the class\, we invite you to stay for our&nbsp\;free community gathering\, a chance to connect with fellow participants in a relaxed\, informal environment. This gathering offers an opportunity for open conversation\, shared support\, and a deeper connection to those within your community.</p>\n\n<ul style="margin-left:3em\; margin-right:0px">\n	<li>7:00 am &ndash\; April 8th\, 15th\, 22nd and 29th</li>\n	<li>8:00 am &ndash\;&nbsp\;<a href="https://torus-center.com/events/" style="box-sizing: inherit\; text-decoration-line: none\; color: var(--tec-color-link-primary)\; outline: none\; border-bottom: 1px solid var(--tec-color-link-accent)\; transition: var(--tec-transition-color)\;">Community Fellowship</a>&nbsp\;immediately after the yoga class</li>\n</ul>\n\n<p>Sign up today and join us for an experience that nourishes both body and mind. Together\, we&rsquo\;ll move\, grow\, and heal in a supportive\, vibrant community.</p>\n\n<p><strong>Investment:</strong>&nbsp\;$20 Single Class Drop In\, Package of 4 Classes (Month of April) for $64</p>\n\n<p><strong>Hosted by:</strong>&nbsp\;April Waldrop &amp\; Torus Center</p>\n\n<p><strong>Location:</strong>&nbsp\;<a href="https://torus-center.com/about-torus-center-for-integrative-healing/" style="box-sizing: inherit\; text-decoration-line: none\; color: var(--tec-color-link-primary)\; outline: none\; border-bottom: 1px solid var(--tec-color-link-accent)\; transition: var(--tec-transition-color)\;">Torus Center for Integrative Healing</a>\, 121 Flinn St Batavia\, IL 60510\; Suite 121</p>\n
LOCATION:Location: Torus Center for Integrative Healing\, 121 Flinn St Batavia\, IL 60510\; Suite 121
UID:e.1902.29420
SEQUENCE:3
DTSTAMP:20260422T114522Z
URL:http://business.bataviachamber.org/events/details/community-connection-yoga-series-a-journey-of-wellness-unity-and-mental-health-04-15-2025-29420
END:VEVENT

END:VCALENDAR
