BEGIN:VCALENDAR
VERSION:2.0
PRODID:-//ChamberMaster//Event Calendar 2.0//EN
METHOD:PUBLISH
X-PUBLISHED-TTL:P3D
REFRESH-INTERVAL:P3D
CALSCALE:GREGORIAN
BEGIN:VEVENT
DTSTART:20250408T140000Z
DTEND:20250408T160000Z
X-MICROSOFT-CDO-ALLDAYEVENT:FALSE
SUMMARY:Community Acupuncture
DESCRIPTION:Community Acupuncture\n\nEvery Tuesday from 9am to 11am located in Suite 121\n\nWelcome to Acupuncture Therapy at Torus! Dr. Rob Gregory is a Licensed Chiropractor and Acupuncturist with a Masters Degree in Traditional Chinese Medicine Acupuncture. We are happy to begin providing acupuncture in a community setting for a variety of health conditions.\n\nWhat is community acupuncture?\n\nCommunity acupuncture differs from traditional private acupuncture in that it is administered in an open room group setting\, there is no need to disrobe and points will be typically located on the arms\, legs\, feet\, hands\, head\, face and/or ears. Many times\, these are similar points we use during private sessions as well. The major benefit to community acupuncture is the cost savings to allow patients to be able to utilize acupuncture therapy more frequently as it is intended for wellness and preventative health.\n\nAcupuncture therapy is a highly influential therapy that can help support physical health\, and our systemic mental and emotional health. Traditional Chinese Medicine doesn't separate physical health from our mental and emotional health. Acupuncture takes a more systemic and broad approach to therapy which allows the same treatment to help support and influence many physical areas as well as concurrent emotional and/or mental health maladies that may be bothering the patient. \n\nMany times\, like losing weight\, we don't see the weight drop off first as we begin working out. What we do notice is that we start resting better\, having a better mood\, our digestion and appetite are improved etc. In the same way\, acupuncture therapy begins to balance our body and treat the whole system leaving us noticing how our whole body is responding to care. As you begin your acupuncture journey\, be sure to be aware of your body and changes that occur in your first few sessions and share your experience with your provider.\n\nWhat to Expect:\n\nPatients will be seated in a comfortable chair for the 20-30 minute session. Wearing loose fitting and comfortable clothing is best. The skin will be cleaned with alcohol and needles inserted in specific acupoints. The points selected may be in the forearms or hands\, lower legs or feet\, scalp and ear. No disrobing will be necessary for acupuncture at Torus.\n\nThere are 4 chairs for patients and usually we have patients receive acupuncture for 20 minutes. Please select a 20 minute time slot below that works best for you below to reserve your spot. \n\nPlease sign up as a new patient (unless you have previously been to Longevity Fitness) and complete the forms here. Select the option for Community Acupuncture at Torus\, then come back to the Torus site to book your time!\n\nBe sure to let Dr. Rob know if you may be pregnant\, have any bleeding disorders\, are on blood thinners or are prone to blood clots. Also\, inform Dr. Rob if you have any blood-borne diseases (HIV/AIDS\, Hepatitis\, etc ). There will also be a daily updates/ daily concern sheets for patients to fill out each visit to let me know the current complaint and goals of treatment once the initial paperwork is complete. Please reach out to info@torus-therapy.com or Dr. Rob at longevityfitclinic@gmail.com with any questions!\n\nEvery Tuesday morning from 9am to 11am\n\nTorus Center for Integrative Healing: 121 Flinn St\n\nInvestment per session: $45\n\nhttps://longevityfit.janeapp.com/
X-ALT-DESC;FMTTYPE=text/html:<h4 style="text-align:center">Community Acupuncture</h4>\n\n<p><strong>Every Tuesday from 9am to 11am located in Suite 121</strong></p>\n\n<p>Welcome to Acupuncture Therapy at Torus! Dr. Rob Gregory is a Licensed Chiropractor and Acupuncturist with a Masters Degree in Traditional Chinese Medicine Acupuncture. We are happy to begin providing acupuncture in a community setting for a variety of health conditions.</p>\n\n<h4><strong>What is community acupuncture?</strong></h4>\n\n<p>Community acupuncture differs from traditional private acupuncture in that it is administered in an open room group setting\, there is no need to disrobe and points will be typically located on the arms\, legs\, feet\, hands\, head\, face and/or ears. Many times\, these are similar points we use during private sessions as well. The major benefit to community acupuncture is the cost savings to allow patients to be able to utilize acupuncture therapy more frequently as it is intended for wellness and preventative health.</p>\n\n<p>Acupuncture therapy is a highly influential therapy that can help support physical health\, and our systemic mental and emotional health. Traditional Chinese Medicine doesn&rsquo\;t separate physical health from our mental and emotional health. Acupuncture takes a more systemic and broad approach to therapy which allows the same treatment to help support and influence many physical areas as well as concurrent emotional and/or mental health maladies that may be bothering the patient.&nbsp\;</p>\n\n<p>Many times\, like losing weight\, we don&rsquo\;t see the weight drop off first as we begin working out. What we do notice is that we start resting better\, having a better mood\, our digestion and appetite are improved etc. In the same way\, acupuncture therapy begins to balance our body and treat the whole system leaving us noticing how our whole body is responding to care. As you begin your acupuncture journey\, be sure to be aware of your body and changes that occur in your first few sessions and share your experience with your provider.</p>\n\n<h4>What to Expect:</h4>\n\n<p>Patients will be seated in a comfortable chair for the 20-30 minute session. Wearing loose fitting and comfortable clothing is best. The skin will be cleaned with alcohol and needles inserted in specific acupoints. The points selected may be in the forearms or hands\, lower legs or feet\, scalp and ear. No disrobing will be necessary for acupuncture at Torus.</p>\n\n<p>There are 4 chairs for patients and usually we have patients receive acupuncture for 20 minutes. Please select a 20 minute time slot below that works best for you below to reserve your spot.&nbsp\;</p>\n\n<p>Please sign up as a new patient (unless you have previously been to Longevity Fitness) and complete the forms <a href="https://longevityfit.janeapp.com/" target="_blank">here</a>. Select the option for Community Acupuncture at Torus\, then come back to the Torus site to book your time!</p>\n\n<p>Be sure to let Dr. Rob know if you may be pregnant\, have any bleeding disorders\, are on blood thinners or are prone to blood clots. Also\, inform Dr. Rob if you have any blood-borne diseases (HIV/AIDS\, Hepatitis\, etc&hellip\;). There will also be a daily updates/ daily concern sheets for patients to fill out each visit to let me know the current complaint and goals of treatment once the initial paperwork is complete. Please reach out to<em> <a href="mailto:info@torus-therapy.com">info@torus-therapy.co</a>m</em> or Dr. Rob at <a href="mailto:longevityfitclinic@gmail.com"><em>longevityfitclinic@gmail.com</em></a> with any questions!</p>\n\n<p><strong>Every Tuesday morning from 9am to 11am</strong></p>\n\n<p><strong>Torus Center for Integrative Healing</strong>: 121 Flinn St</p>\n\n<p><strong>Investment per session:</strong> $45</p>\n\n<p><a href="https://longevityfit.janeapp.com/" target="_blank">https://longevityfit.janeapp.com/</a></p>\n
LOCATION:Torus Center for Integrative Healing 121 Flinn St Batavia\, IL 60510
UID:e.1902.26877
SEQUENCE:3
DTSTAMP:20260422T113657Z
URL:http://business.bataviachamber.org/events/details/community-acupuncture-04-08-2025-26877
END:VEVENT

END:VCALENDAR
