BEGIN:VCALENDAR
VERSION:2.0
PRODID:-//ChamberMaster//Event Calendar 2.0//EN
METHOD:PUBLISH
X-PUBLISHED-TTL:P3D
REFRESH-INTERVAL:P3D
CALSCALE:GREGORIAN
BEGIN:VEVENT
DTSTART:20250625T210000Z
DTEND:20250626T000000Z
X-MICROSOFT-CDO-ALLDAYEVENT:FALSE
SUMMARY:Child Advocate Volunteer Recruitment Open House
DESCRIPTION:CASA Kane County is looking for dedicated Child Advocate Volunteers to help change the lives of children who have experienced abuse or neglect and are in foster care.\n\n\n\nWe also welcome event volunteers and generous donors to support our special projects   together\, we can make a difference!
X-ALT-DESC;FMTTYPE=text/html:CASA Kane County is looking for dedicated Child Advocate Volunteers to help change the lives of children who have experienced abuse or neglect and are in foster care.<br />\n<br />\nWe also welcome event volunteers and generous donors to support our special projects &mdash\; together\, we can make a difference!
LOCATION:DC Cobbs 311 Barrington Ave. East Dundee IL 60118
UID:e.1902.29599
SEQUENCE:3
DTSTAMP:20260422T083345Z
URL:http://business.bataviachamber.org/events/details/child-advocate-volunteer-recruitment-open-house-29599
END:VEVENT

END:VCALENDAR
