BEGIN:VCALENDAR
VERSION:2.0
PRODID:-//ChamberMaster//Event Calendar 2.0//EN
METHOD:PUBLISH
X-PUBLISHED-TTL:P3D
REFRESH-INTERVAL:P3D
CALSCALE:GREGORIAN
BEGIN:VEVENT
DTSTART:20080710T163000Z
DTEND:20080710T180000Z
X-MICROSOFT-CDO-ALLDAYEVENT:FALSE
SUMMARY:Chamber Lunch - 08/07/10 - Discover Your ''Bucket List''
DESCRIPTION:Seen the movie "The Bucket List"? Ever wonder if you are attending to the right priorities in your life? Want to discover what is truly important today so you can "get to it"? Join Chamber Executive Director Roger Breisch as he reviews a method to help you set your priorities. \n\nWe're trying something very different this month...a "brown bag" event.  There is no charge...so bring a lunch and eat while we explore!
X-ALT-DESC;FMTTYPE=text/html:Seen the movie "The Bucket List"? Ever wonder if you are attending to the right priorities in your life? Want to discover what is truly important today so you can "get to it"? Join Chamber Executive Director Roger Breisch as he reviews a method to help you set your priorities. \n\nWe're trying something very different this month...a "brown bag" event.  There is no charge...so bring a lunch and eat while we explore!
LOCATION:Batavia City Hall - City Council Chambers
UID:e.1902.1525
SEQUENCE:3
DTSTAMP:20260422T131745Z
URL:http://business.bataviachamber.org/events/details/chamber-lunch-08-07-10-discover-your-bucket-list-07-10-2008-1525
END:VEVENT

END:VCALENDAR
