BEGIN:VCALENDAR
VERSION:2.0
PRODID:-//ChamberMaster//Event Calendar 2.0//EN
METHOD:PUBLISH
X-PUBLISHED-TTL:P3D
REFRESH-INTERVAL:P3D
CALSCALE:GREGORIAN
BEGIN:VEVENT
DTSTART:20091215T013000Z
DTEND:20091215T023000Z
X-MICROSOFT-CDO-ALLDAYEVENT:FALSE
SUMMARY:Chamber Legislative Affairs Committee
DESCRIPTION:Monthly meeting of the Chamber's commitee that oversees local\, state and nagtional legislative issues.
X-ALT-DESC;FMTTYPE=text/html:<DIV style="FONT-FAMILY: Arial">Monthly meeting of the Chamber's commitee that oversees local\, state and nagtional legislative issues.</DIV>
LOCATION:Panera Bread
UID:e.1902.1442
SEQUENCE:3
DTSTAMP:20260421T074230Z
URL:http://business.bataviachamber.org/events/details/chamber-legislative-affairs-committee-12-14-2009-1442
END:VEVENT

END:VCALENDAR
