BEGIN:VCALENDAR
VERSION:2.0
PRODID:-//ChamberMaster//Event Calendar 2.0//EN
METHOD:PUBLISH
X-PUBLISHED-TTL:P3D
REFRESH-INTERVAL:P3D
CALSCALE:GREGORIAN
BEGIN:VEVENT
DTSTART:20171012T123000Z
DTEND:20171012T140000Z
X-MICROSOFT-CDO-ALLDAYEVENT:FALSE
SUMMARY:Chamber Connectors
DESCRIPTION:Chamber Connectors is our weekly networking group. The group is currently open to new members\, but it is industry specific. Currently filled industries are as follows:\n\n	Financial Advisor\n	Realtor\n	Banker\n	Insurance\n	Marketing\n	Lawyer\n	Health/Wellness Coach\n	Alarm Sales\n	Roofing\n	Promotional\n	Home Inspector\n\nIf you'd like to be considered for this group\, please let us know!
X-ALT-DESC;FMTTYPE=text/html:<strong>Chamber Connectors&nbsp\;</strong>is our weekly networking group. The group is currently open to new members\, but it is industry specific. Currently filled industries are as follows:\n<ul>\n	<li>Financial Advisor</li>\n	<li>Realtor</li>\n	<li>Banker</li>\n	<li>Insurance</li>\n	<li>Marketing</li>\n	<li>Lawyer</li>\n	<li>Health/Wellness Coach</li>\n	<li>Alarm Sales</li>\n	<li>Roofing</li>\n	<li>Promotional</li>\n	<li>Home Inspector</li>\n</ul>\nIf you&#39\;d like to be considered for this group\, please let us know!
LOCATION:Denny's 521 N. Randall Road\, Batavia
UID:e.1902.3717
SEQUENCE:3
DTSTAMP:20260422T113642Z
URL:http://business.bataviachamber.org/events/details/chamber-connectors-10-12-2017-3717
END:VEVENT

END:VCALENDAR
