BEGIN:VCALENDAR
VERSION:2.0
PRODID:-//ChamberMaster//Event Calendar 2.0//EN
METHOD:PUBLISH
X-PUBLISHED-TTL:P3D
REFRESH-INTERVAL:P3D
CALSCALE:GREGORIAN
BEGIN:VEVENT
DTSTART:20100708T163000Z
DTEND:20100708T180000Z
X-MICROSOFT-CDO-ALLDAYEVENT:FALSE
SUMMARY:Chamber Brown Bag Lunch & Book Review
DESCRIPTION:Batavia Chamber of Commerce Brown Bag Lunch & Book Review Join us for a review of a wonderful and very practical book: Switch: How to change things when change is hard. If you are having trouble making a change in your life\, our would like to find a better way to motivate others to do things a new way\, come and hear about this book. Executive Director Roger Breisch will bring a summary of the book and host a conversation about how to make it practical.
X-ALT-DESC;FMTTYPE=text/html:<FONT color=#000000><FONT color=#0000ff><P class=MsoNormal style="MARGIN: 0in 0in 0pt" align=center><FONT face=Arial color=#800000 size=4>Batavia Chamber of Commerce Brown Bag Lunch &amp\;&nbsp\;Book Review</FONT></P><P class=MsoNormal style="MARGIN: 0in 0in 0pt" align=left><FONT face=Arial size=4></FONT>&nbsp\;</P><P class=MsoNormal style="MARGIN: 0in 0in 0pt" align=left><FONT face=Arial size=4>Join us for a review of a wonderful and very practical book: <EM>Switch: How to change things when change is hard.</EM></FONT></P><P class=MsoNormal style="MARGIN: 0in 0in 0pt" align=left><FONT face=Arial size=4></FONT>&nbsp\;</P><P class=MsoNormal style="MARGIN: 0in 0in 0pt" align=left><FONT face=Arial size=4>If you are having trouble making a change in your life\, our would like to find a better way to motivate others to do things a new way\, come and hear about this book.</FONT></P><P class=MsoNormal style="MARGIN: 0in 0in 0pt" align=left><FONT face=Arial size=4></FONT>&nbsp\;</P><P class=MsoNormal style="MARGIN: 0in 0in 0pt" align=left><FONT face=Arial size=4>Executive Director Roger Breisch will bring a summary of the book and host a conversation about how to make it practical.</FONT></P></FONT></FONT>
LOCATION:Interiors for Business\, Inc.
UID:e.1902.1538
SEQUENCE:3
DTSTAMP:20260420T185450Z
URL:http://business.bataviachamber.org/events/details/chamber-brown-bag-lunch-book-review-07-08-2010-1538
END:VEVENT

END:VCALENDAR
