BEGIN:VCALENDAR
VERSION:2.0
PRODID:-//ChamberMaster//Event Calendar 2.0//EN
METHOD:PUBLISH
X-PUBLISHED-TTL:P3D
REFRESH-INTERVAL:P3D
CALSCALE:GREGORIAN
BEGIN:VEVENT
DTSTART:20100922T123000Z
DTEND:20100922T143000Z
X-MICROSOFT-CDO-ALLDAYEVENT:FALSE
SUMMARY:Chamber Board Meeting - Open to ALL Members
DESCRIPTION:Get Informed...Meet the Chamber Board of Directors The Chamber Board of Directors is comprised of top business leaders in the Fox Valley. Join us for the newly revised Board Meeting in our new location. Hear first-hand what is being planned for the Chamber of CommerceFind out what economic development activities are planned for BataviaGet updates from the Batavia Schools\, Park District\, MainStreet and moreThe Chamber Board meetings are perhaps the best place to keep informed on events and developments throughout the area. Should you wish to address the Board\, please contact the Executive Director in advance. The venue offers lots of room for guests\, and we're tempting you with coffee and light pastries.
X-ALT-DESC;FMTTYPE=text/html:<DIV style="FONT-FAMILY: Arial" align=center><STRONG><FONT color=#800000>Get Informed...Meet the Chamber Board of Directors</FONT></STRONG></DIV><DIV style="FONT-FAMILY: Arial" align=left><FONT color=#0000ff><STRONG></STRONG></FONT>&nbsp\;</DIV><DIV style="FONT-FAMILY: Arial" align=left><FONT color=#0000ff><STRONG>The Chamber Board of Directors is comprised of top business leaders in the Fox Valley. Join us for the newly revised Board Meeting in our new location. </STRONG></FONT></DIV><UL><LI><DIV style="FONT-FAMILY: Arial" align=left><STRONG><FONT color=#0000ff>Hear first-hand what is being planned for the Chamber of Commerce</FONT></STRONG></DIV><LI><DIV style="FONT-FAMILY: Arial" align=left><STRONG><FONT color=#0000ff>Find out what economic development activities are planned for Batavia</FONT></STRONG></DIV><LI><DIV style="FONT-FAMILY: Arial" align=left><STRONG><FONT color=#0000ff>Get updates from the Batavia Schools\, Park District\, MainStreet and more</FONT></STRONG></DIV></LI></UL><DIV style="FONT-FAMILY: Arial" align=left><FONT color=#0000ff><STRONG>The Chamber Board meetings are perhaps the best place to keep informed on events and developments throughout the area. Should you wish to address the Board\, please contact the Executive Director in advance.</STRONG></FONT></DIV><DIV style="FONT-FAMILY: Arial" align=left><STRONG><FONT color=#0000ff></FONT></STRONG>&nbsp\;</DIV><DIV style="FONT-FAMILY: Arial" align=left><FONT color=#0000ff><STRONG>The venue offers lots of room for guests\, and we're tempting you with coffee and light pastries.</STRONG></FONT></DIV>
LOCATION:Batavia Public School District 101
UID:e.1902.1260
SEQUENCE:3
DTSTAMP:20260420T151620Z
URL:http://business.bataviachamber.org/events/details/chamber-board-meeting-open-to-all-members-09-22-2010-1260
END:VEVENT

END:VCALENDAR
