BEGIN:VCALENDAR
VERSION:2.0
PRODID:-//ChamberMaster//Event Calendar 2.0//EN
METHOD:PUBLISH
X-PUBLISHED-TTL:P3D
REFRESH-INTERVAL:P3D
CALSCALE:GREGORIAN
BEGIN:VEVENT
DTSTART:20110525T123000Z
DTEND:20110525T143000Z
X-MICROSOFT-CDO-ALLDAYEVENT:FALSE
SUMMARY:Chamber Board Meeting - CANCELLED
DESCRIPTION:PLEASE NOTE: The Board will not meet in May
X-ALT-DESC;FMTTYPE=text/html:<DIV style="FONT-FAMILY: Arial" align=center><STRONG><FONT color=#800000>PLEASE NOTE: The Board will not meet in May</FONT></STRONG><FONT color=#0000ff><STRONG></STRONG></FONT></DIV>
LOCATION:
UID:e.1902.1268
SEQUENCE:3
DTSTAMP:20260420T013313Z
URL:http://business.bataviachamber.org/events/details/chamber-board-meeting-cancelled-05-25-2011-1268
END:VEVENT

END:VCALENDAR
