BEGIN:VCALENDAR
VERSION:2.0
PRODID:-//ChamberMaster//Event Calendar 2.0//EN
METHOD:PUBLISH
X-PUBLISHED-TTL:P3D
REFRESH-INTERVAL:P3D
CALSCALE:GREGORIAN
BEGIN:VEVENT
DTSTART:20090709T163000Z
DTEND:20090709T183000Z
X-MICROSOFT-CDO-ALLDAYEVENT:FALSE
SUMMARY:CANCELLED - Brown Bag ''Fireside Chat''
DESCRIPTION:And now for something completely different. Books & Bites...Chamber Style!Wander over to the new Town Center at the Holmstad. If you have not seen it\, it's worth the trip just for that.Bring a favorite book--business or otherwise--along with a 2-minute description of why it is so important. How did it change you? How did it change your view of the world? How did it change your relationship with others? Why should others read it? Don't worry\, if you don't have a book to review\, the Executive Director will have plenty!We'll chat as we eat a boxed lunch provided by The Holmstad\, learn a great deal about "Books to Know & Love\," and when we're through\, the staff at the Holmstad has agreed to give us a short tour of their new facility.Sign up today!
X-ALT-DESC;FMTTYPE=text/html:<FONT face=Arial><P align=left><FONT face="Times New Roman" color=#0000ff><SPAN style="FONT-SIZE: small"><SPAN style="FONT-FAMILY: Arial\, Helvetica\, sans-serif"><STRONG>And now for something completely different. Books &amp\; Bites...Chamber Style!</STRONG></SPAN></SPAN></FONT></P><P align=left><FONT face="Times New Roman" color=#0000ff><SPAN style="FONT-SIZE: small"><SPAN style="FONT-FAMILY: Arial\, Helvetica\, sans-serif"><STRONG>Wander over to the new Town Center at the Holmstad. If you have not seen it\, it's worth the trip just for that.</STRONG></SPAN></SPAN></FONT></P><P align=left><FONT face="Times New Roman" color=#0000ff><SPAN style="FONT-SIZE: small"><SPAN style="FONT-FAMILY: Arial\, Helvetica\, sans-serif"><STRONG>Bring a favorite book--business or otherwise--along with a 2-minute description of why it is so important. How did it change you? How did it change your view of the world? How did it change your relationship with others? Why should others read it? Don't worry\, if you don't have a book to review\, the Executive Director will have plenty!</STRONG></SPAN></SPAN></FONT></P><P align=left><FONT face="Times New Roman" color=#0000ff><SPAN style="FONT-SIZE: small"><SPAN style="FONT-FAMILY: Arial\, Helvetica\, sans-serif"><STRONG>We'll chat as we eat a boxed lunch provided by The Holmstad\, learn a great deal about "Books to Know&nbsp\;&amp\; Love\," and when we're through\, the staff at the Holmstad has agreed to give us a short tour of their new facility.</STRONG></SPAN></SPAN></FONT></P><P align=left><FONT face="Times New Roman" color=#0000ff><SPAN style="FONT-SIZE: small"><SPAN style="FONT-FAMILY: Arial\, Helvetica\, sans-serif"><STRONG>Sign up today!</STRONG></SPAN></SPAN></FONT><FONT face="Times New Roman"><SPAN style="FONT-SIZE: small"><SPAN style="FONT-FAMILY: Arial\, Helvetica\, sans-serif"></P></SPAN></SPAN></FONT></FONT>
LOCATION:The Holmstad
UID:e.1902.1531
SEQUENCE:3
DTSTAMP:20260421T163249Z
URL:http://business.bataviachamber.org/events/details/cancelled-brown-bag-fireside-chat-07-09-2009-1531
END:VEVENT

END:VCALENDAR
