BEGIN:VCALENDAR
VERSION:2.0
PRODID:-//ChamberMaster//Event Calendar 2.0//EN
METHOD:PUBLISH
X-PUBLISHED-TTL:P3D
REFRESH-INTERVAL:P3D
CALSCALE:GREGORIAN
BEGIN:VEVENT
DTSTART:20091013T163000Z
DTEND:20091013T180000Z
X-MICROSOFT-CDO-ALLDAYEVENT:FALSE
SUMMARY:BWIB Luncheon with Vickie Austin
DESCRIPTION:“The Ten Commandments of Loving Your Job.”This simple checklist provides a framework for turning a job from drudgery to delight.
X-ALT-DESC;FMTTYPE=text/html:<P align=center><STRONG><FONT face=Arial size=4>“The Ten Commandments of Loving Your Job.”</FONT></STRONG></P><P align=left><FONT face=Arial size=4>This simple checklist provides a framework for turning a job from drudgery to delight.</FONT></P>
LOCATION:Fox Valley Country Club
UID:e.1902.1334
SEQUENCE:3
DTSTAMP:20260421T120045Z
URL:http://business.bataviachamber.org/events/details/bwib-luncheon-with-vickie-austin-10-13-2009-1334
END:VEVENT

END:VCALENDAR
