BEGIN:VCALENDAR
VERSION:2.0
PRODID:-//ChamberMaster//Event Calendar 2.0//EN
METHOD:PUBLISH
X-PUBLISHED-TTL:P3D
REFRESH-INTERVAL:P3D
CALSCALE:GREGORIAN
BEGIN:VEVENT
DTSTART:20081014T163000Z
DTEND:20081014T180000Z
X-MICROSOFT-CDO-ALLDAYEVENT:FALSE
SUMMARY:BWIB Luncheon with Dr. Jenna Eisenberg
DESCRIPTION:Dr. Eisenberg mixes enthusiasm and humor with motivational stories to deliver memorable\, moving and highly effective presentations that will empower her audience. After hearing her\, listeners will be ready to move forward in their lives. Audience members feel that now they can achieve what did not seem possible in the past. She is an unforgettable speaker with a life-altering message.Dr. Eisenberg's brand new book\, Yes\, It is All About You! is the ultimate guide for women who want to get what they want out of life and feel great at the same time.RSVP ($25 for members\; $30 for non-members and guests)
X-ALT-DESC;FMTTYPE=text/html:<P>Dr.&nbsp\;Eisenberg mixes enthusiasm and humor with motivational stories to deliver memorable\, moving and highly effective presentations that will empower her audience. After hearing her\, listeners will be ready to move forward in their lives. Audience members feel that now they can achieve what did not seem possible in the past. She is an unforgettable speaker with a life-altering message.</P><P>Dr. Eisenberg's brand new book\, <U>Yes\, It is All About You!</U> is the ultimate guide for women who want to get what they want out of life and feel great at the same time.</P><P>RSVP ($25 for members\; $30 for non-members and guests)</P>
LOCATION:Eagle Brook Country Club
UID:e.1902.1327
SEQUENCE:3
DTSTAMP:20260422T082800Z
URL:http://business.bataviachamber.org/events/details/bwib-luncheon-with-dr-jenna-eisenberg-10-14-2008-1327
END:VEVENT

END:VCALENDAR
