BEGIN:VCALENDAR
VERSION:2.0
PRODID:-//ChamberMaster//Event Calendar 2.0//EN
METHOD:PUBLISH
X-PUBLISHED-TTL:P3D
REFRESH-INTERVAL:P3D
CALSCALE:GREGORIAN
BEGIN:VEVENT
DTSTART:20180911T173000Z
DTEND:20180911T183000Z
X-MICROSOFT-CDO-ALLDAYEVENT:FALSE
SUMMARY:BWIB Committee Meeting
DESCRIPTION:The Batavia Women in Business committee is dedicated to providing networking\, educational\, and philanthropic opportunities for women (and men!) in our business community. Committee members meet on the first Tuesday of every month to discuss potential speakers\, marketing\, and fundraising opportunities.\n\n\n\nIf you'd like to be considered for this committee\, let us know!
X-ALT-DESC;FMTTYPE=text/html:<span style="line-height: 20.8px\;">The Batavia Women in Business committee is dedicated to providing networking\, educational\, and philanthropic opportunities for women (and men!) in our business community. Committee members meet on the first Tuesday of every month to discuss potential speakers\, marketing\, and fundraising opportunities.</span><br style="line-height: 20.8px\;" />\n<br style="line-height: 20.8px\;" />\n<span style="line-height: 20.8px\;">If you&#39\;d like to be considered for this committee\, let us know!</span>
LOCATION:Batavia Chamber of Commerce\, 106 W Wilson Street
UID:e.1902.5999
SEQUENCE:3
DTSTAMP:20260423T081903Z
URL:http://business.bataviachamber.org/events/details/bwib-committee-meeting-09-04-2018-5999
END:VEVENT

END:VCALENDAR
