BEGIN:VCALENDAR
VERSION:2.0
PRODID:-//ChamberMaster//Event Calendar 2.0//EN
METHOD:PUBLISH
X-PUBLISHED-TTL:P3D
REFRESH-INTERVAL:P3D
CALSCALE:GREGORIAN
BEGIN:VEVENT
DTSTART:20090427T210000Z
DTEND:20090427T220000Z
X-MICROSOFT-CDO-ALLDAYEVENT:FALSE
SUMMARY:Building Relationships Between Batavia & North Aurora
DESCRIPTION:In These Difficult Economic Times......let's get together to create new ties between businesses in Batavia and North Aurora. The Batavia Chamber of Commerce is ready\, willing and able to help the businesses in both communities meet one another\, and discover partnerships that can be mutually beneficial.Join\, Dr. Bill Park and his staff for an open ended discussion on how we can create win-win partnerships and improve the economic vitality of the Fox Valley.Then...stay for the Business After hours and share some appetizers and a glass of wine or other refreshment.
X-ALT-DESC;FMTTYPE=text/html:<P align=center><FONT color=#0000ff size=5><STRONG>In These Difficult Economic Times...</STRONG></FONT></P><P align=left><FONT color=#0000ff size=4>...let's get together to create new ties between businesses in Batavia and North Aurora. The Batavia Chamber of Commerce is ready\, willing and able to help the businesses in both communities meet one another\, and discover partnerships that can be mutually beneficial.</FONT></P><P align=left><FONT color=#0000ff size=4>Join\, Dr. Bill Park and his staff for an open ended discussion on how we can create win-win partnerships and improve the economic vitality of the Fox Valley.</FONT></P><P align=left><FONT color=#0000ff size=4>Then...stay for the Business After hours and share some appetizers and a glass of wine or other refreshment.</FONT></P><P align=center><FONT color=#0000ff></P></FONT>
LOCATION:Park Family Eye Care
UID:e.1902.1214
SEQUENCE:3
DTSTAMP:20260421T214951Z
URL:http://business.bataviachamber.org/events/details/building-relationships-between-batavia-north-aurora-04-27-2009-1214
END:VEVENT

END:VCALENDAR
