BEGIN:VCALENDAR
VERSION:2.0
PRODID:-//ChamberMaster//Event Calendar 2.0//EN
METHOD:PUBLISH
X-PUBLISHED-TTL:P3D
REFRESH-INTERVAL:P3D
CALSCALE:GREGORIAN
BEGIN:VEVENT
DTSTART:20250307T013000Z
DTEND:20250309T030000Z
X-MICROSOFT-CDO-ALLDAYEVENT:FALSE
SUMMARY:Bryan Callen Stand Up Comedy
DESCRIPTION:Catch Bryan Callen\, comedian\, actor\, and podcasting favorite\, live at The Comedy Vault March 6-8! Known for his roles in MADtv\, The Goldbergs\, and The Hangover\, as well as his hit comedy special Complicated Apes\, Bryan's live shows are packed with energy and laughs. Get your tickets today GA and Meet & Greet options available!
X-ALT-DESC;FMTTYPE=text/html:Catch Bryan Callen\, comedian\, actor\, and podcasting favorite\, live at The Comedy Vault March 6-8! Known for his roles in <em>MADtv</em>\, <em>The Goldbergs</em>\, and <em>The Hangover</em>\, as well as his hit comedy special <em>Complicated Apes</em>\, Bryan&rsquo\;s live shows are packed with energy and laughs. Get your tickets today&mdash\;GA and Meet &amp\; Greet options available!
LOCATION:The Comedy Vault 18 E. Wilson St. Batavia\, IL 60510
UID:e.1902.26575
SEQUENCE:3
DTSTAMP:20260422T131300Z
URL:http://business.bataviachamber.org/events/details/bryan-callen-standup-comedy-26575
END:VEVENT

END:VCALENDAR
