BEGIN:VCALENDAR
VERSION:2.0
PRODID:-//ChamberMaster//Event Calendar 2.0//EN
METHOD:PUBLISH
X-PUBLISHED-TTL:P3D
REFRESH-INTERVAL:P3D
CALSCALE:GREGORIAN
BEGIN:VEVENT
DTSTART:20250425T003000Z
DTEND:20250427T040000Z
X-MICROSOFT-CDO-ALLDAYEVENT:FALSE
SUMMARY:Brooks Wheelan Stand Up Comedy
DESCRIPTION:Comedian Brooks Wheelan is bringing his high-energy stand-up back to The Comedy Vault for three nights\, April 24-26! A former Saturday Night Live cast member\, Brooks has been featured on Conan\, Late Night with Seth Meyers\, Comedy Central's The Half Hour\, and more. His debut album This Is Cool\, Right? hit #1 on iTunes and was named one of PASTE Magazine's 10 Best Comedy Albums of 2015. Don't miss your chance to see this comedy powerhouse live get your tickets now!
X-ALT-DESC;FMTTYPE=text/html:Comedian Brooks Wheelan is bringing his high-energy stand-up back to The Comedy Vault for three nights\, April 24-26! A former Saturday Night Live cast member\, Brooks has been featured on Conan\, Late Night with Seth Meyers\, Comedy Central&rsquo\;s The Half Hour\, and more. His debut album This Is Cool\, Right? hit #1 on iTunes and was named one of PASTE Magazine&rsquo\;s 10 Best Comedy Albums of 2015. Don&rsquo\;t miss your chance to see this comedy powerhouse live&mdash\;get your tickets now!
LOCATION:The Comedy Vault
UID:e.1902.29413
SEQUENCE:3
DTSTAMP:20260422T113822Z
URL:http://business.bataviachamber.org/events/details/brooks-wheelan-stand-up-comedy-29413
END:VEVENT

END:VCALENDAR
