BEGIN:VCALENDAR
VERSION:2.0
PRODID:-//ChamberMaster//Event Calendar 2.0//EN
METHOD:PUBLISH
X-PUBLISHED-TTL:P3D
REFRESH-INTERVAL:P3D
CALSCALE:GREGORIAN
BEGIN:VEVENT
DTSTART:20250501T200000Z
DTEND:20250502T000000Z
X-MICROSOFT-CDO-ALLDAYEVENT:FALSE
SUMMARY:Bracelet Beading Party—Celebrating Mother's Day at K. Hollis Jewelers!
DESCRIPTION:Mother's Day Beading Party   A Gift from the Heart! \n\nThursday\, May 1st |  3 PM   7 PM |  K. Hollis Jewelers\, Boutique & Wine Bar\n\nLooking for the perfect Mother's Day gift? Create something meaningful at our bracelet beading party! Whether you're designing for Mom\, creating a matching set with your daughter\, or treating yourself\, this hands-on experience is something you'll cherish forever.\n\nCreate Your Own Bracelet: \n\n      Choose from a stunning selection of beads \n\n      Get expert guidance to bring your vision to life \n\n      One bracelet for $40 or make two & get $10 off!\n\nMake it a Memory: Bring Mom\, your daughter\, or a friend this is the perfect way to spend quality time together while making something beautiful.\n\nSip & Shop: Enjoy wine bar specials & browse our boutique for the perfect extra touch.\n\nExclusive Raffle: Win a $50 gift card! Plus\, earn an extra entry for every guest you bring.\n\nSpots are limited RSVP now & let's make something special!\n\n      Each time slot is 45-minutes.
X-ALT-DESC;FMTTYPE=text/html:<h3 style="text-align:initial"><strong>Mother&rsquo\;s Day Beading Party &ndash\; A Gift from the Heart!&nbsp\;</strong></h3>\n\n<p style="text-align:initial"><strong>Thursday\, May 1st</strong><span style="background-color:var(--ricos-custom-p-background-color\,unset)">&nbsp\;|&nbsp\;&nbsp\;</span><strong>3 PM &ndash\; 7 PM</strong><span style="background-color:var(--ricos-custom-p-background-color\,unset)">&nbsp\;|&nbsp\;&nbsp\;</span><strong>K. Hollis Jewelers\, Boutique &amp\; Wine Bar</strong></p>\n\n<p style="text-align:initial"><span style="background-color:var(--ricos-custom-p-background-color\,unset)">Looking for the perfect </span><strong>Mother&rsquo\;s Day</strong><span style="background-color:var(--ricos-custom-p-background-color\,unset)">&nbsp\;gift? </span><strong>Create something meaningful</strong><span style="background-color:var(--ricos-custom-p-background-color\,unset)">&nbsp\;at our </span><strong>bracelet beading party!</strong><span style="background-color:var(--ricos-custom-p-background-color\,unset)">&nbsp\;Whether you&#39\;re </span><strong>designing for Mom\, creating a matching set with your daughter\, or treating yourself\,</strong><span style="background-color:var(--ricos-custom-p-background-color\,unset)">&nbsp\;this hands-on experience is something you&rsquo\;ll cherish forever.</span></p>\n\n<p style="text-align:initial"><strong>Create Your Own Bracelet:</strong><span style="background-color:var(--ricos-custom-p-background-color\,unset)">&nbsp\;</span></p>\n\n<p style="text-align:initial">&nbsp\;&nbsp\;&nbsp\;&nbsp\;&bull\;&nbsp\;<span style="background-color:var(--ricos-custom-p-background-color\,unset)">Choose from a stunning selection of beads&nbsp\;</span></p>\n\n<p style="text-align:initial">&nbsp\;&nbsp\;&nbsp\;&nbsp\;&bull\;&nbsp\;<span style="background-color:var(--ricos-custom-p-background-color\,unset)">Get expert guidance to bring your vision to life&nbsp\;</span></p>\n\n<p style="text-align:initial">&nbsp\;&nbsp\;&nbsp\;&nbsp\;&bull\;&nbsp\;<strong>One bracelet for $40 or make two &amp\; get $10 off!</strong></p>\n\n<p style="text-align:initial"><strong>Make it a Memory:</strong><span style="background-color:var(--ricos-custom-p-background-color\,unset)">&nbsp\;Bring Mom\, your daughter\, or a friend&mdash\;this is the perfect way to </span><strong>spend quality time together while making something beautiful.</strong></p>\n\n<p style="text-align:initial"><strong>Sip &amp\; Shop:</strong><span style="background-color:var(--ricos-custom-p-background-color\,unset)">&nbsp\;Enjoy </span><strong>wine bar specials</strong><span style="background-color:var(--ricos-custom-p-background-color\,unset)">&nbsp\;&amp\; browse our boutique for the perfect </span><strong>extra touch.</strong></p>\n\n<p style="text-align:initial"><strong>Exclusive Raffle:</strong><span style="background-color:var(--ricos-custom-p-background-color\,unset)">&nbsp\;</span><strong>Win a $50 gift card!</strong><span style="background-color:var(--ricos-custom-p-background-color\,unset)">&nbsp\;Plus\, earn an </span><strong>extra entry for every guest you bring.</strong></p>\n\n<p style="text-align:initial"><strong>Spots are limited&mdash\;RSVP now &amp\; let&rsquo\;s make something special!</strong></p>\n\n<p style="text-align:initial">&nbsp\;&nbsp\;&nbsp\;&nbsp\;<span style="background-color:var(--ricos-custom-p-background-color\,unset)">&bull\; Each time slot is 45-minutes. </span></p>\n
LOCATION:K. Hollis Jewelers\, Boutique & Wine Bar 2030 Main St | Batavia\, IL
UID:e.1902.29442
SEQUENCE:3
DTSTAMP:20260422T102410Z
URL:http://business.bataviachamber.org/events/details/bracelet-beading-party-celebrating-mother-s-day-at-k-hollis-jewelers-29442
END:VEVENT

END:VCALENDAR
