BEGIN:VCALENDAR
VERSION:2.0
PRODID:-//ChamberMaster//Event Calendar 2.0//EN
METHOD:PUBLISH
X-PUBLISHED-TTL:P3D
REFRESH-INTERVAL:P3D
CALSCALE:GREGORIAN
BEGIN:VEVENT
DTSTART:20250202T161500Z
DTEND:20250202T200000Z
X-MICROSOFT-CDO-ALLDAYEVENT:FALSE
SUMMARY:Batavia’s Historic Calvary Episcopal Church Celebrates 170th Anniversary
DESCRIPTION:Calvary Episcopal Church of Batavia is joyfully celebrating 170 years of serving the community of Batavia and central Kane County!\n\n\n\nFather Michael Rasicci\, Pastor\, noted that the church\, located at 222 S. Batavia Ave.\, was first recognized as a member of the Episcopal Diocese of Illinois in 1855.\n\n\n\nThe church will be honored to have Bishop Paula Clark of the Episcopal Diocese of Chicago visit us on February 2\, 2025. At the 10:15 a.m. service\, Bishop Clark will administer the Rite of Confirmation and Reception of new Episcopalians. An anniversary brunch will be served. \n\n\n\nPlease join us!
X-ALT-DESC;FMTTYPE=text/html:<p><span style="font-size:16px\;"><span style="font-family:verdana\;">Calvary Episcopal Church of Batavia is joyfully celebrating 170 years of serving the community of Batavia and central Kane County!<br />\n<br />\nFather Michael Rasicci\, Pastor\, noted that the church\, located at 222 S. Batavia Ave.\, was first recognized as a member of the Episcopal Diocese of Illinois in 1855.<br />\n<br />\nThe church will be honored to have Bishop Paula Clark of the Episcopal Diocese of Chicago visit us on February 2\, 2025. At the 10:15 a.m. service\, Bishop Clark will administer the Rite of Confirmation and Reception of new Episcopalians. An anniversary brunch will be served</span></span>.&nbsp\;<br />\n<br />\n<span style="font-family:verdana\;"><span style="font-size:16px\;">Please join us!</span></span><br />\n&nbsp\;</p>\n
LOCATION:Calvary Episcopal Church 222 S. Batavia Avenue Batavia\, IL 60510
UID:e.1902.29316
SEQUENCE:3
DTSTAMP:20260422T150816Z
URL:http://business.bataviachamber.org/events/details/batavia-s-historic-calvary-episcopal-church-celebrates-170th-anniversary-29316
END:VEVENT

END:VCALENDAR
