BEGIN:VCALENDAR
VERSION:2.0
PRODID:-//ChamberMaster//Event Calendar 2.0//EN
METHOD:PUBLISH
X-PUBLISHED-TTL:P3D
REFRESH-INTERVAL:P3D
CALSCALE:GREGORIAN
BEGIN:VEVENT
DTSTART:20250510T140000Z
DTEND:20250510T170000Z
X-MICROSOFT-CDO-ALLDAYEVENT:FALSE
SUMMARY:Batavia Plain Dirt Gardeners Plant Sale
DESCRIPTION:Batavia Plain Dirt Gardeners will hold their annual Plant Sale on Saturday\, May 10th from 9 a.m. to noon in the Bethany Lutheran Church gymnasium.  Most plants are sourced from members' gardens and include natives\, perennials\, shrubs\, and trees.   Get tips from experts and Master Gardeners on selecting and growing the plants in your garden.\n\n \n\nEach year\, this sale raises funds for the club's activities\, including college scholarships\, maintaining the Wildflower Sanctuary at the Batavia Riverwalk\, the Kaleidoscope Planter and Peace Bridge Planters near City Hall\, and the Alphabet Garden at the Batavia Public Library.\n\n \n\nIn 1991\, a group of volunteers began to transform a wooded area along the Batavia Riverwalk that later became known as the Batavia Wildflower Sanctuary.  These gardeners went on to form the Batavia Plain Dirt Gardeners   a group that is dedicated to supporting and maintaining the Wildflower Sanctuary and other community projects while cultivating friendships and the love of gardening among experienced and novice gardeners. \n\n \n\nThe club is open to all persons interested in gardening. For more information\, see our website at bataviaplaindirtgardeners.org\, or contact us at bataviaplaindirtgardeners@gmail.com\n\n \n\n###\n\n \n\nBatavia Plain Dirt Gardeners is a 501(c)(3) organization that promotes a love of sustainable gardening and the natural world through education and volunteerism
X-ALT-DESC;FMTTYPE=text/html:<span style="font-family:century gothic\,sans-serif">Batavia Plain Dirt Gardeners will hold their annual Plant Sale on Saturday\, May 10<sup>th</sup> from 9 a.m. to noon in the Bethany Lutheran Church gymnasium.&nbsp\; Most plants are sourced from members&rsquo\; gardens and include natives\, perennials\, shrubs\, and trees.&nbsp\;&nbsp\; Get tips from experts and Master Gardeners on selecting and growing the plants in your garden.</span><br />\n&nbsp\;<br />\n<span style="font-family:century gothic\,sans-serif">Each year\, this sale raises funds for the club&rsquo\;s activities\, including college scholarships\, maintaining the Wildflower Sanctuary at the Batavia Riverwalk\, the Kaleidoscope Planter and Peace Bridge Planters near City Hall\, and the Alphabet Garden at the Batavia Public Library.</span><br />\n&nbsp\;<br />\n<span style="font-family:century gothic\,sans-serif">In 1991\, a group of volunteers began to transform a wooded area along the Batavia Riverwalk that later became known as the Batavia Wildflower Sanctuary.&nbsp\; These gardeners went on to form the Batavia Plain Dirt Gardeners &ndash\; a group that is dedicated to supporting and maintaining the Wildflower Sanctuary and other community projects while cultivating friendships and the love of gardening among experienced and novice gardeners.&nbsp\;</span><br />\n&nbsp\;<br />\n<span style="font-family:century gothic\,sans-serif">The club is open to all persons interested in gardening.&nbsp\;For more information\, see our website at bataviaplaindirtgardeners.org\, or contact us at </span><a href="mailto:bataviaplaindirtgardeners@gmail.com">bataviaplaindirtgardeners@gmail.com</a><br />\n&nbsp\;<br />\n<strong><span style="font-family:century gothic\,sans-serif">###</span></strong><br />\n&nbsp\;<br />\n<strong><em><span style="color:#525252"><span style="font-family:century gothic\,sans-serif"><span style="font-size:10.0pt">Batavia Plain Dirt Gardeners&nbsp\;is a 501(c)(3) organization that promotes a love of sustainable gardening and the natural world through education and volunteerism</span></span></span></em></strong>
LOCATION:Bethany Lutheran Church 8 S. Lincoln St. Batavia\, IL 60510
UID:e.1902.29417
SEQUENCE:3
DTSTAMP:20260422T102304Z
URL:http://business.bataviachamber.org/events/details/batavia-plain-dirt-gardeners-plant-sale-29417
END:VEVENT

END:VCALENDAR
