BEGIN:VCALENDAR
VERSION:2.0
PRODID:-//ChamberMaster//Event Calendar 2.0//EN
METHOD:PUBLISH
X-PUBLISHED-TTL:P3D
REFRESH-INTERVAL:P3D
CALSCALE:GREGORIAN
BEGIN:VEVENT
DTSTART:20250617T234500Z
DTEND:20250618T020000Z
X-MICROSOFT-CDO-ALLDAYEVENT:FALSE
SUMMARY:Batavia Plain Dirt Gardeners June Meeting & Potluck Dinner - Diagnosing Tomato Problems by Alexis Barnes
DESCRIPTION:Join us on June 17\, 2025 at 6:45 p.m. at the Batavia Public Library at 10 S. Batavia Ave. for a program about diagnosing tomato problems and the club potluck dinner. This will be the last meeting before summer.\n\n \n\nThe club will provide the chicken main dish for all.  Please bring your favorite appetizer\, side dish\, dessert\, or beverage to share with fellow club members.\n\n \n\nOur speaker Alexis Barnes is a Community Educator from the University of Illinois Extension Service and will be speaking about diagnosing tomato growing issues.\n\n \n\nAlexis is the first Local Food Systems and Small Farms educator serving the tri-county area and is a native of Bartlett\, IL.  Barnes\, who recently completed a master's degree in plant science at South Dakota State University\, plans to start this new role with a focus on specialty crops\, farmer training\, tillage reduction\, cover crop and living mulch integration\, and food accessibility. She also plans to integrate new programs as community needs arise. The Illinois Extension Local Food Systems and Small Farms team provides education\, resources\, and programming to help residents safely produce\, grow\, and consume locally produced agricultural products. A grant from the USDA Urban Agriculture and Innovative Production program helped make the new position possible.\n\n \n\nBarnes is based in the Kane County Extension office and joins a tri-county team of 20-plus staff members providing programs in food production\, horticulture\, natural resources\, nutrition\, and youth development.  Illinois Extension leads public outreach for University of Illinois by translating research into action plans that allow Illinois families\, businesses\, and community leaders to solve problems\, make informed decisions\, and adapt to changes and opportunities. Illinois Extension is part of the University of Illinois Urbana-Champaign College of Agricultural\, Consumer and Environmental Sciences.\n\n \n\nThe Batavia Plain Dirt Gardeners is open to all persons interested in gardening. For more information\, see our website at bataviaplaindirtgardeners.org\, or contact us at bataviaplaindirtgardeners@gmail.com
X-ALT-DESC;FMTTYPE=text/html:<span style="font-family:century gothic\,sans-serif">Join us on June 17\, 2025 at 6:45 p.m. at the Batavia Public Library at 10 S. Batavia Ave.</span> <span style="font-family:century gothic\,sans-serif">for a program about diagnosing tomato problems and the club potluck dinner. This will be the last meeting before summer.</span><br />\n&nbsp\;<br />\n<span style="font-family:century gothic\,sans-serif">The club&nbsp\;will provide the&nbsp\;chicken main dish for all.&nbsp\; Please bring your favorite appetizer\, side dish\, dessert\, or beverage to share with fellow club members.</span><br />\n&nbsp\;<br />\n<span style="font-family:century gothic\,sans-serif">Our speaker Alexis Barnes is a Community Educator&nbsp\;from the University of Illinois Extension Service and will be speaking about diagnosing tomato growing issues.</span><br />\n&nbsp\;<br />\n<span style="font-family:century gothic\,sans-serif">Alexis is the first Local Food Systems and Small Farms educator serving the tri-county area and is a native of Bartlett\, IL.&nbsp\;&nbsp\;Barnes\, who recently completed a master&rsquo\;s degree in plant science at South Dakota State University\, plans to start this new role with a focus on specialty crops\, farmer training\, tillage reduction\, cover crop and living mulch integration\, and food accessibility. She also plans to integrate new programs as community needs arise.&nbsp\;The Illinois Extension Local Food Systems and Small Farms team provides education\, resources\, and programming to help residents safely produce\, grow\, and consume locally produced agricultural products. A grant from the USDA Urban Agriculture and Innovative Production program helped make the new position possible.</span><br />\n&nbsp\;<br />\n<span style="font-family:century gothic\,sans-serif">Barnes is based in the Kane County Extension office and joins a tri-county team of 20-plus staff members providing programs in food production\, horticulture\, natural resources\, nutrition\, and youth development.&nbsp\;&nbsp\;Illinois Extension leads public outreach for University of Illinois by translating research into action plans that allow Illinois families\, businesses\, and community leaders to solve problems\, make informed decisions\, and adapt to changes and opportunities. Illinois Extension is part of the University of Illinois Urbana-Champaign College of Agricultural\, Consumer and Environmental Sciences.</span><br />\n&nbsp\;<br />\n<span style="font-family:century gothic\,sans-serif">The Batavia Plain Dirt Gardeners is open to all persons interested in gardening.&nbsp\;For more information\, see our website at bataviaplaindirtgardeners.org\, or contact us at </span><a href="about:blank"><span style="color:windowtext"><span style="font-family:century gothic\,sans-serif">bataviaplaindirtgardeners@gmail.com</span></span></a><br />\n&nbsp\;
LOCATION:Batavia Public Library 10 S. Batavia Ave. Batavia\, IL 60510 (630) 879-1393
UID:e.1902.29541
SEQUENCE:3
DTSTAMP:20260422T082908Z
URL:http://business.bataviachamber.org/events/details/batavia-plain-dirt-gardeners-june-meeting-potluck-dinner-diagnosing-tomato-problems-by-alexis-barnes-06-17-2025-29541
END:VEVENT

END:VCALENDAR
