BEGIN:VCALENDAR
VERSION:2.0
PRODID:-//ChamberMaster//Event Calendar 2.0//EN
METHOD:PUBLISH
X-PUBLISHED-TTL:P3D
REFRESH-INTERVAL:P3D
CALSCALE:GREGORIAN
BEGIN:VEVENT
DTSTART:20250525T050000Z
DTEND:20250525T050000Z
X-MICROSOFT-CDO-ALLDAYEVENT:FALSE
SUMMARY:Batavia Plain Dirt Gardeners Announce New Scholarship
DESCRIPTION:The Batavia Plain Dirt Gardeners have established a scholarship for a graduating high school student who plans to pursue a career requiring an Associate or Bachelor's degree in Horticultural Science fields such as Agriculture\, Botany\, Conservation\, Ecology\, Environmental Science\, Forestry\, and Land Management.\n\n \n\nThe scholarship amount is $2\,000 and applicants must currently reside within the boundaries of Batavia Public School District 101.  The application must be completed and submitted to Batavia Plain Dirt Gardeners by Friday May 30\, 2025\, and will be notified by email by Monday June 30\, 2025.  The financial award is for education tuition and shall be paid directly to the institution the recipient will be attending.  Applications can be obtained by visiting bataviaplaindirtgardeners.org or emailing bataviaplaindirtgardeners@gmail.com.\n\n \n\n"Batavia Plain Dirt Gardeners are honored to be able to help further the education of a Batavia student\," say Doris Trout club president. "The organization promotes a love of sustainable gardening and the natural world through education and volunteerism. This new scholarship helps fulfill that mission."\n\n \n\nBatavia Plain Dirt Gardeners\, a 501(c)(3) organization\, supports and conducts educational and informational activites that promote gardening\, and supports the Batavia Wildflower Sanctuary and other community projects related to gardening and native plant preservation.  BPDG provides a network wherein gardeners can share their expertise and further a strong and growing interest in gardening.  \n\n \n\nThe Batavia Plain Dirt Gardeners is open to all persons interested in gardening. For more information\, see our website at bataviaplaindirtgardeners.org\, or contact us at bataviaplaindirtgardeners@gmail.com
X-ALT-DESC;FMTTYPE=text/html:<span style="font-family:century gothic\,sans-serif">The Batavia Plain Dirt Gardeners have established a scholarship for a graduating high school student who plans to pursue a career requiring an Associate or Bachelor&#39\;s degree in Horticultural Science fields such as Agriculture\, Botany\, Conservation\, Ecology\, Environmental Science\, Forestry\, and Land Management.</span><br />\n&nbsp\;<br />\n<span style="font-family:century gothic\,sans-serif">The scholarship amount is $2\,000 and applicants must currently reside within the boundaries of Batavia Public School District 101.&nbsp\; The application must be completed and submitted to Batavia Plain Dirt Gardeners by Friday May 30\, 2025\, and will be notified by email by Monday June 30\, 2025.&nbsp\; The financial award is for education tuition and shall be paid directly to the institution the recipient will be attending.&nbsp\; Applications can be obtained by visiting bataviaplaindirtgardeners.org or emailing <a href="mailto:bataviaplaindirtgardeners@gmail.com">bataviaplaindirtgardeners@gmail.com</a>.</span><br />\n&nbsp\;<br />\n<span style="font-family:century gothic\,sans-serif">&ldquo\;Batavia Plain Dirt Gardeners are honored to be able to help further the education of a Batavia student\,&rdquo\; say Doris Trout club president. &ldquo\;The organization promotes a love of sustainable gardening and the natural world through education and volunteerism. This new scholarship helps fulfill that mission.&rdquo\;</span><br />\n&nbsp\;<br />\n<span style="font-family:century gothic\,sans-serif">Batavia Plain Dirt Gardeners\, a 501(c)(3) organization\, supports and conducts educational and informational activites that promote gardening\, and supports the Batavia Wildflower Sanctuary and other community projects related to gardening and native plant preservation.&nbsp\; BPDG provides a network wherein gardeners can share their expertise and further a strong and growing interest in gardening.&nbsp\; </span><br />\n&nbsp\;<br />\n<span style="color:black"><span style="font-family:century gothic\,sans-serif">The Batavia Plain Dirt Gardeners is open to all persons interested in gardening.&nbsp\;For more information\, see our website at <a href="https://bataviaplaindirtgardeners.org/" target="_blank">bataviaplaindirtgardeners.org</a>\, or contact us at </span></span><span style="color:black"><a href="mailto:bataviaplaindirtgardeners@gmail.com">bataviaplaindirtgardeners@gmail.com</a></span>
LOCATION:https://bataviaplaindirtgardeners.org/scholarship-application/
UID:e.1902.29468
SEQUENCE:3
DTSTAMP:20260422T102317Z
URL:http://business.bataviachamber.org/events/details/batavia-plain-dirt-gardeners-announce-new-scholarship-05-25-2025-29468
END:VEVENT

END:VCALENDAR
