BEGIN:VCALENDAR
VERSION:2.0
PRODID:-//ChamberMaster//Event Calendar 2.0//EN
METHOD:PUBLISH
X-PUBLISHED-TTL:P3D
REFRESH-INTERVAL:P3D
CALSCALE:GREGORIAN
BEGIN:VEVENT
DTSTART:20250531T130000Z
DTEND:20250531T200000Z
X-MICROSOFT-CDO-ALLDAYEVENT:FALSE
SUMMARY:Batavia Hardwoods Anniversary & Spring Open House
DESCRIPTION:Batavia Hardwoods is celebrating their one-year anniversary with a spring open house.  Please join the owners\, Doug\, Steve\, John and Kersten on Saturday\, May 31\, 2025 between the hours of 8AM and 3PM at their store located at 330 McKee St. in Batavia\, IL. 60510.\n\n\n\nThe days festivities are family friendly and\, weather permitting\, will include demonstrations by the Batavia Woodcarvers Club and the Windy City and Chicago Woodturners Clubs.  Food and beverages will be served during lunchtime until the food runs out!\n\n\n\nIn appreciation of the support we've received from our woodworking and woodturning customers Batavia Hardwoods is offering special sales on the day of the celebration. There will be 20% discounts on all woodturning stock and 10% discounts on all flat woodworking stock and a 10% discount on our Gallery of finished products (bowls\, charcuterie boards\, vases\, cutting boards and more).
X-ALT-DESC;FMTTYPE=text/html:Batavia Hardwoods is celebrating their one-year anniversary with a spring open house.&nbsp\; Please join the owners\, Doug\, Steve\, John and Kersten on Saturday\, May 31\, 2025 between the hours of 8AM and 3PM at their store located at 330 McKee St. in Batavia\, IL. 60510.<br />\n<br />\nThe days festivities are family friendly and\, weather permitting\, will include demonstrations by the Batavia Woodcarvers Club and the Windy City and Chicago Woodturners Clubs.&nbsp\; Food and beverages will be served during lunchtime until the food runs out!<br />\n<br />\nIn appreciation of the support we&rsquo\;ve received from our woodworking and woodturning customers Batavia Hardwoods is offering special sales on the day of the celebration. There will be 20% discounts on all woodturning stock and 10% discounts on all flat woodworking stock and a 10% discount on our Gallery of finished products (bowls\, charcuterie boards\, vases\, cutting boards and more).
LOCATION:Batavia Hardwoods 330 McKee Street Batavia\, IL 60510
UID:e.1902.29533
SEQUENCE:3
DTSTAMP:20260422T101715Z
URL:http://business.bataviachamber.org/events/details/batavia-hardwoods-anniversary-spring-open-house-29533
END:VEVENT

END:VCALENDAR
