BEGIN:VCALENDAR
VERSION:2.0
PRODID:-//ChamberMaster//Event Calendar 2.0//EN
METHOD:PUBLISH
X-PUBLISHED-TTL:P3D
REFRESH-INTERVAL:P3D
CALSCALE:GREGORIAN
BEGIN:VEVENT
DTSTART:20171010T123000Z
DTEND:20171011T013000Z
X-MICROSOFT-CDO-ALLDAYEVENT:FALSE
SUMMARY:Batavia Business Exchange
DESCRIPTION:The Batavia Business Exchange is our weekly networking group. The group is currently open to new members\, but it is industry specific. Please inquire about the group requirements and open business category prior to attending.
X-ALT-DESC;FMTTYPE=text/html:The Batavia Business Exchange<strong>&nbsp\;</strong>is our weekly networking group. The group is currently open to new members\, but it is industry specific.&nbsp\;Please inquire about the group requirements and open business&nbsp\;category&nbsp\;prior to attending.
LOCATION:Hosted at The Holmstad 700 W. Fabyan Parkway Batavia
UID:e.1902.7001
SEQUENCE:3
DTSTAMP:20260422T113812Z
URL:http://business.bataviachamber.org/events/details/batavia-business-exchange-7001
END:VEVENT

END:VCALENDAR
