BEGIN:VCALENDAR
VERSION:2.0
PRODID:-//ChamberMaster//Event Calendar 2.0//EN
METHOD:PUBLISH
X-PUBLISHED-TTL:P3D
REFRESH-INTERVAL:P3D
CALSCALE:GREGORIAN
BEGIN:VEVENT
DTSTART:20081009T220000Z
DTEND:20081010T000000Z
X-MICROSOFT-CDO-ALLDAYEVENT:FALSE
SUMMARY:BAH - Fox Valley Volunteer Hospice
DESCRIPTION:You are invited to tour the FVVH facility and network with business professionals from South Elgin\, St. Charles and Geneva Chambers of Commerce. Enjoy tasty hors d'oeuvres from Peach Tree Gourmet.
X-ALT-DESC;FMTTYPE=text/html:You are invited to tour the FVVH facility and network with business professionals from South Elgin\, St. Charles and Geneva Chambers of Commerce. Enjoy tasty hors d'oeuvres from Peach Tree Gourmet.
LOCATION:Fox Valley Volunteer Hospice
UID:e.1902.1205
SEQUENCE:3
DTSTAMP:20260422T082800Z
URL:http://business.bataviachamber.org/events/details/bah-fox-valley-volunteer-hospice-10-09-2008-1205
END:VEVENT

END:VCALENDAR
